Workbook
Name _QRC4: #REF!
Name Adur: [1]DATA!#REF!
Name BRprint1: 'LCTS Form'!$A$1:$D$15
Name BRprint1: #REF!
Name BRprint2: 'LCTS Form'!#REF!
Name BRprint2: #REF!
Name CERDATA: '[2]Section A'!#REF!
Name CONTACT: 'LCTS Form'!#REF!
Name CONTACT: 'QRC4 Form'!$AH$191:$AM$191
Name Data1: Data!$A$12:$G$339
Name datar: [3]DATA!$A$8:$S$362
Name datar: [4]Data!$A$8:$AT$334
Name datar: Data!$A$12:$AE$338
Name detruse: 'LCTS Form'!#REF!
Name detruse: #REF!
Name dtlruse: #REF!
Name LAcodes: #REF!
Name LAlist: [5]Data!$C$9:$C$336
Name LAlist: #REF!
Name LAlist: Data!$B$12:$B$338
Name lanames: Data!$B$12:$B$338
Name numberhered: #REF!
Name odpmuse: 'LCTS Form'!#REF!
Name QRC: 'LCTS Form'!#REF!
Name Qrc4print: 'LCTS Form'!$A$1:$E$15
Name table: [5]Data!$B$9:$H$336
Name Table: #REF!
Name Table: Data!$A$12:$C$338
Name table1: #REF!
Name Validation: #REF!
Name zzz: #REF!

Sheet Instructions
A2: 2015-16 QUARTERLY RETURN OF COUNCIL TAX (QRC4)
A3: FINAL OUTTURN INFORMATION 2015-16
B5: This return should be returned no later than Friday 13 May 2016
A7: Please email to qrc.statistics@communities.gsi.gov.uk
A9: Please enter your details after checking that you have selected the correct authority name
A11: Problems with this workbook should be e-mailed to : qrc.statistics@communities.gsi.gov.uk
D13: Ver 1.0
B15: These instructions highlight the features of the electronic form and should be read in conjunction with QRC4 Guidance Notes for 2015-16 and QRC4 Validation Notes for 2015-16.
B19: Completing the form
B20: 1. The form can be set up for each individual local authority by selecting the appropriate authority name from the list. The example shows the local authority ZZZZ. Once a local authority name is selected the spreadsheet will automatically fill in data already known to the Department for Communities and Local Government. There should be no need to change the data but please check it carefully before completing the rest of the form.
B25: 2. There are two types of cell:
C27: White, black border - these cells are blank for new data - Please ensure all the white cells are filled in before submitting the form.
C31: White, blue border - These cells are all calculations and have the appropriate formula. There should be no need to overwrite these cells.
B34: Checking the Validation Sheet
B35: 3. Once the form is complete go to the Validation sheet and check if any of the data require any further explanation. The data are compared with the both the QRC4 for 2014-15 and the QRC3 for 2015-16 and if the change is higher or lower than we would normally expect the percentage change or difference will appear in the blue boxes. If this occurs please provide an explanation for the change in the yellow box provided. For further details on the types of checks we do see QRC4 Validation Notes for 2015-16.
B40: 4. We are also checking the localised council tax support (LCTS) data against the QRC3 2015-16 data. Again, if the change is greater than we expect please provide an explanation for the difference in the box provided.
B42: Certifying the Form
B43: 5. When the data have been checked and verified please email the complete form to qrc.statistics@communities.gsi.gov.uk
B45: 6. Print a copy of the form for certification by your Chief Financial Officer / Section 151 officer.
B46: The certified copy of the form must be sent as a scanned pdf copy to qrc.statistics@communities.gsi.gov.uk as soon as possible after completion.
B49: 7. If changes need to be made, please resend both copies of the form.
B51: Problems
B52: 8. If you experience any problems using the form please email qrc.statistics@communities.gsi.gov.uk

Sheet QRC4 Form
I1: 124 | L1: =+Instructions!D13 -> Ver 1.0
A2: QUARTERLY RETURN OF COUNCIL TAXES, NON-DOMESTIC RATES - and LOCALISED COUNCIL TAX SUPPORT - QRC4
A4: 2015-16
A6: Please e-mail the completed form to : qrc.statistics@communities.gsi.gov.uk
B8: Copies of both this Excel version and a certified version of the QRC4 should reach the Department for Communities and Local Government no later than Friday 13 May 2016
C12: Please enter your details after checking that you have selected the correct authority name
C15: Select your local authority's name from this list
C19: Authority Name | E19: =VLOOKUP(I1,datar,2,FALSE) -> Hastings
C20: E-code | E20: =VLOOKUP(I1,datar,3,FALSE) -> E1433
C21: Local authority contact name | E21: NICK BROCKLEBANK | G21: =+IF(F21="","Please enter the name of your authority contact","") -> Please enter the name of your authority contact
C22: Local authority contact number | E22: 01424 451563 | G22: =+IF(F22="","Please enter your authority contact's phone number","") -> Please enter your authority contact's phone number
C23: Local authority e-mail address | E23: nbrocklebank@hastings.gov.uk | G23: =+IF(F23="","Please enter your authority contact's email address","") -> Please enter your authority contact's email address
B25: SECTION I : COUNCIL TAX AND NON-DOMESTIC RATES - TOTAL RECEIPTS IN THE PERIOD 1 APRIL 2015 TO 31 MARCH 2016
B27: Receipts of council taxes from council tax payers (net of refunds), and receipts of Crown (MOD) contributions in aid of council taxes.
B28: Receipts of non-domestic rates from non-domestic ratepayers, including rates on local authority properties.
B30: Amounts for council tax and non domestic rates should not include any amounts received and payable to the general fund in respect of court costs and penalties.
I32: Council | K32: National Non
I33: Tax | K33: Domestic Rates
B34: PART A | I34: £000 | K34: £000 | P34: =IF(AND(I35>=0,I35<300000),0,1) -> 0
B35: 1 Estimated net collectable debit in respect of 2015-16 | I35: 42642 | K35: 21871
P36: =IF(AND(I37>=0,I37<30000),0,1) -> 0
B37: 2 Prepayments-cash receipts collected in previous years in respect of 2015-16 | I37: 581 | K37: 156
P38: =IF(AND(I39>=0,I39<300000),0,1) -> 0
B39: 3 Estimated 2015-16 receipts collected in 2015-16, net of refunds granted in respect of 2015-16 only | I39: 40450 | K39: 21333
B41: 4 Total 2015-16 receipts, net of refunds granted in respect of 2015-16 only (Line 2 + Line 3) | I41: =I37+I39 -> 41031 | K41: =K37+K39 -> 21489
I43: % | K43: %
B44: 5 In-year collection rate for 2015-16 (Line 4/Line 1 x 100, to 2 decimal places) | I44: =ROUND(I41/I35*100,2) -> 96.22 | K44: =ROUND(K41/K35*100,2) -> 98.25
B45: Please note that this figure should not exceed 100%
I46: £000 | K46: £000 | P46: =IF(I47>=0,0,1) -> 0
B47: 6 Estimated receipts of previous years council taxes or non-domestic rates received in 2015-16 only, | I47: 856 | K47: -163
B48: net of refunds made in respect of those years | P48: =IF(I49>=0,0,1) -> 0
B49: 7 Estimated receipts of 2016-17 council taxes or non-domestic rates, received before 1 April 2016 and any other | I49: 609 | K49: 99
B50: credits carried forward in respect of those years on 31 March 2016
B51: 8 Total estimated receipts of council taxes or non-domestic rates in 2015-16, irrespective of year to | I51: =+I39+I47+I49 -> 41915 | K51: =+K39+K47+K49 -> 21269
B52: which the receipts relate (Line 3 + Line 6 + Line 7)
B54: PART B
B55: This section gives authorities the opportunity to provide revised figures on the amount of council tax and non domestic rate receipts collected
B56: in quarter 1 to quarter 3 of 2015-16, and the amount of receipts received in quarter 4 of 2015-16.
B58: Receipts of council taxes and non domestic rate collected during 2015-16, broken down by quarter, irrespective of the financial year (previous, current or future years)
B59: to which the receipts relate | P59: CTAX USER ENTRY | R59: CTAX VALIDATION | X59: NNDR VALIDATION
...

Sheet LCTS Form
G1: 323
B3: QUARTERLY RETURN OF COUNCIL TAXES, NON-DOMESTIC RATES and LOCALISED COUNCIL TAX SUPPORT - QRC4 2015-16
B4: Please e-mail completed form to : qrc.statistics@communities.gsi.gov.uk
B6: Please enter your details after checking you have selected the correct authority name
G7: =+[5]Instructions!D13 -> v1.0
B9: Check that this is your authority: | D9: =+CONCATENATE('QRC4 Form'!E19) -> Hastings
B10: Local authority ecode: | D10: =+CONCATENATE('QRC4 Form'!E20) -> E1433
B11: Local authority contact name: | D11: =+CONCATENATE('QRC4 Form'!E21) -> NICK BROCKLEBANK
B12: Local authority contact telephone number: | D12: =+CONCATENATE('QRC4 Form'!E22) -> 01424 451563
B13: Local authority contact e-mail address: | D13: =+CONCATENATE('QRC4 Form'!E23) -> nbrocklebank@hastings.gov.uk
B16: Number of Localised Council Tax Support Claimants
B17: Please enter a snapshot of the number of claimants
D18: As at | E18: As at | F18: As at | G18: As at
D19: 42185 | E19: 42277 | F19: 42369 | G19: 42460
B20: Line1. Number of Pensioner claimants in receipt of a reduced council tax bill | D20: 4200 | E20: 4150 | F20: =VLOOKUP('QRC4 Form'!I1,Data!A12:AN337,34,FALSE) -> 4126 | G20: 4065
B22: Line 2. Number of Working-Age claimants in receipt of a reduced council tax bill | D22: 7035 | E22: 6906 | F22: =VLOOKUP('QRC4 Form'!I1,Data!A12:AN337,37,FALSE) -> 6819 | G22: 6820
B24: Line 3. Total Number of claimants in receipt of a reduced council tax bill | D24: =+D20+D22 -> 11235 | E24: =+E20+E22 -> 11056 | F24: =+F20+F22 -> 10945 | G24: =+G20+G22 -> 10885
B26: Lines 1 - 3. Number of working age and pension age claimants on a reduced council tax bill.
B27: NB: Numbers of claimants are a key part of the calculation of your authority’s share of the Localised Council Tax Support Administration Funding Grant. It is therefore important these figures are as accurate as possible. Your council tax team may be better placed to provide some of the information required in this section. We require information as at 31 March 2016 - if you are able to provide information for the three previous quarters ( i.e as at 30 June, 30 September & 31 December 2015) then please do so. The number of working age claimants and pensioners in receipt of a reduced or zero council tax bill as a result of the local council tax support scheme on the 31 March 2016 or as close as possible to that date. Line 3 is the sum of line 1 and 2. The definition of a pensioner is as set out in regulations 3 of the Council Tax Reduction Schemes (Prescribed Requirements) (England) Regulations 2012 (SI: 2012 / 2885). A person is a “pensioner” if— (i) he has attained the qualifying age for state pension credit; and. (ii) he is not, or, if he has a partner, his partner is not— (a) a person on income support, on an income-based jobseeker’s allowance or on an income-related employment and support allowance; or. (b) a person with an award of universal credit; and. A working age person is a “person who is not a pensioner” if— (i) he has not attained the qualifying age for state pension credit; or. (ii) he has attained the qualifying age for state pension credit and he, or if he has a partner, his partner, is— (aa) a person on income support, on income-based jobseeker’s allowance or an income-related employment and support allowance; or. (bb) a person with an award of universal credit.

Sheet QRC4 Validation
A2: QUARTERLY RETURN OF COUNCIL TAXES AND NON-DOMESTIC RATES (QRC4)
A3: 2015-16
A4: Validation Checks
A5: =+'QRC4 Form'!L1 -> Ver 1.0
B6: =+CONCATENATE("Local authority : ",+'QRC4 Form'!E19," ",) -> Local authority : Hastings
B7: =+CONCATENATE("Local authority : ",+'QRC4 Form'!E20," ",) -> Local authority : E1433
B8: =+CONCATENATE("Local authority contact name : ",+'QRC4 Form'!E21) -> Local authority contact name : NICK BROCKLEBANK
B9: =+CONCATENATE("Local authority contact number : ",+'QRC4 Form'!E22) -> Local authority contact number : 01424 451563
B10: =+CONCATENATE("Local authority contact email address : ",+'QRC4 Form'!E23) -> Local authority contact email address : nbrocklebank@hastings.gov.uk
B12: This sheet automatically highlights any validation queries and provides space for your explanations
B13: The note QRC4 Validation Checks 2015-16 provides further details on the validations we carry out. Please consult this when completing this validation sheet
D15: Data | G15: Change | J15: Parameters
D16: Previous data | E16: 2015-16 | G16: Actual | H16: % | J16: Actual | K16: % | O16: Please comment below where required
C17: Council Tax | D17: £'000s | E17: £'000s | G17: £'000s | J17: £'000s
B18: 1 | C18: Receipts collected between April 2015 - June 2015 (Quarter 1 - QRC3 2015-16) | D18: =VLOOKUP('QRC4 Form'!I1,Data!A12:AE337,4,FALSE) -> 14339 | E18: ='QRC4 Form'!I61 -> 14339 | G18: =ABS(+E18-D18) -> 0 | H18: =+IF(D18=0,"-",+G18/D18) -> 0 | J18: 0 | K18: 0.1 | M18: =IF(E18=0,"Zero in 2015-16",IF(G18=0,"OK",IF(H18=0,"OK",IF(AND(ABS(H18)>K20,ABS(G18)>J18),IF(O18="","Please comment","Comment made"),"OK")))) -> OK
B19: 2 | C19: Receipts collected between July 2015 - September 2015 (Quarter 2 - QRC3 2015-16) | D19: =VLOOKUP('QRC4 Form'!I1,Data!A12:AE337,5,FALSE) -> 11900 | E19: ='QRC4 Form'!I63 -> 11900 | G19: =ABS(+E19-D19) -> 0 | H19: =+IF(D19=0,"-",+G19/D19) -> 0 | J19: 0 | K19: 0.1 | M19: =IF(E19=0,"Zero in 2015-16",IF(G19=0,"OK",IF(H19=0,"OK",IF(AND(ABS(H19)>K19,ABS(G19)>J19),IF(O19="","Please comment","Comment made"),"OK")))) -> OK
B20: =+B19+1 -> 3 | C20: Receipts collected between October 2015 - December 2015 (Quarter 3 - QRC3 2015-16) | D20: =VLOOKUP('QRC4 Form'!I1,Data!A12:AE337,6,FALSE) -> 11677 | E20: ='QRC4 Form'!I65 -> 11677 | G20: =ABS(+E20-D20) -> 0 | H20: =+IF(D20=0,"-",+G20/D20) -> 0 | J20: 0 | K20: 0.1 | M20: =IF(E20=0,"Zero in 2015-16",IF(G20=0,"OK",IF(H20=0,"OK",IF(AND(ABS(H20)>K20,ABS(G20)>J20),IF(O20="","Please comment","Comment made"),"OK")))) -> OK
B21: =+B20+1 -> 4 | C21: Receipts collected between April 2015 - December 2015 (Quarter 1 + 2 + 3 - QRC3 2015-16) | D21: =VLOOKUP('QRC4 Form'!I1,Data!A12:AE337,7,FALSE) -> 37916 | E21: =+E18+E19+E20 -> 37916 | G21: =ABS(+E21-D21) -> 0 | H21: =+IF(D21=0,"-",+G21/D21) -> 0 | J21: 0 | K21: 0.2 | M21: =IF(E21=0,"Zero in 2015-16",IF(G21=0,"OK",IF(H21=0,"OK",IF(AND(ABS(H21)>K21,ABS(G21)>J21),IF(O21="","Please comment","Comment made"),"OK")))) -> OK
B22: =+B21+1 -> 5 | C22: Receipts collected between January 2015 - March 2015 (Quarter 4 - QRC4 2014-15) | D22: =VLOOKUP('QRC4 Form'!I1,Data!A12:AE337,20,FALSE) -> 3637 | E22: ='QRC4 Form'!I67 -> 3999 | G22: =ABS(+E22-D22) -> 362 | H22: =+IF(D22=0,"-",+G22/D22) -> 0.099532582 | J22: 0 | K22: 0.2 | M22: =IF(E22=0,"Zero in 2015-16",IF(G22=0,"OK",IF(H22=0,"OK",IF(AND(ABS(H22)>K22,ABS(G22)>J22),IF(O22="","Please comment","Comment made"),"OK")))) -> OK
B23: =+B22+1 -> 6 | C23: Total estimated receipts of council taxes in 2015-16, irrespective of year to which the receipts relate | D23: =VLOOKUP('QRC4 Form'!I1,Data!A12:AE337,19,FALSE) -> 40228 | E23: ='QRC4 Form'!I51 -> 41915 | G23: =ABS(+E23-D23) -> 1687 | H23: =+IF(D23=0,"-",+G23/D23) -> 0.041935965 | J23: 0 | K23: 0.2 | M23: =IF(E23=0,"Zero in 2015-16",IF(G23=0,"OK",IF(H23=0,"OK",IF(AND(ABS(H23)>K23,ABS(G23)>J23),IF(O23="","Please comment","Comment made"),"OK")))) -> OK
B24: =+B23+1 -> 7 | C24: Prepayments & cash receipts collected in previous years in respect of 2015-16 | D24: =VLOOKUP('QRC4 Form'!I1,Data!A12:AE337,18,FALSE) -> 581 | E24: ='QRC4 Form'!I37 -> 581 | G24: =ABS(+E24-D24) -> 0 | H24: =+IF(D24=0,"-",+G24/D24) -> 0 | J24: 0 | K24: 0.1 | M24: =IF(E24=0,"Zero in 2015-16",IF(G24=0,"OK",IF(H24=0,"OK",IF(AND(ABS(H24)>K24,ABS(G24)>J24),IF(O24="","Please comment","Comment made"),"OK")))) -> OK
B25: =+B24+1 -> 8 | C25: In-year collection rate for 2015-16 | D25: =VLOOKUP('QRC4 Form'!I$1,Data!A$12:AE$337,16,FALSE)/100 -> 0.9643 | E25: =('QRC4 Form'!I$44)/100 -> 0.9622 | G25: =ABS(+E25-D25)*100 -> 0.21 | J25: 1.5 | M25: =IF(E25=0,"Zero in 2015-16",IF(G25=0,"OK",IF(H25=0,"OK",IF(AND(ABS(H25)>K25,ABS(G25)>J25),IF(O25="","Please comment","Comment made"),"OK")))) -> OK
B26: =+B25+1 -> 9 | C26: Change in arrears outstanding at the end of the year between QRC4 2014-15 & QRC4 2015-16 | D26: =VLOOKUP('QRC4 Form'!I$1,Data!A$12:AE$337,30,FALSE) -> 5125 | E26: =+'QRC4 Form'!I124 -> 5093 | G26: =ABS(+E26-D26) -> 32 | H26: =+IF(D26=0,"-",+G26/D26) -> 0.0062439024 | J26: 0 | K26: 0.2 | M26: =IF(E26=0,"Zero in 2015-16",IF(G26=0,"OK",IF(H26=0,"OK",IF(AND(ABS(H26)>K26,ABS(G26)>J26),IF(O26="","Please comment","Comment made"),"OK")))) -> OK
B27: =+B26+1 -> 10 | C27: Collection of arrears in 2015-16 in part 1 | D27: =VLOOKUP('QRC4 Form'!I$1,Data!A$12:AE$337,17,FALSE) -> 744 | E27: =+'QRC4 Form'!I47 -> 856 | G27: =ABS(+E27-D27) -> 112 | H27: =+IF(D27=0,"-",+G27/D27) -> 0.15053763 | J27: 0 | K27: 0.2 | M27: =IF(E27=0,"Zero in 2015-16",IF(G27=0,"OK",IF(H27=0,"OK",IF(AND(ABS(H27)>K27,ABS(G27)>J27),IF(O27="","Please comment","Comment made"),"OK")))) -> OK
B28: =+B27+1 -> 11 | C28: Change in amount written off in year irrespective of the year to which it relates, between 2014-15 & 2015-16 | D28: =VLOOKUP('QRC4 Form'!I$1,Data!A$12:AE$337,31,FALSE) -> 14 | E28: =+'QRC4 Form'!I108+'QRC4 Form'!I110+'QRC4 Form'!I120 -> 678 | G28: =ABS(+E28-D28) -> 664 | H28: =+IF(D28=0,"-",+G28/D28) -> 47.428571 | J28: 25 | K28: 0.25 | M28: =IF(E28=0,"Zero in 2015-16",IF(G28=0,"OK",IF(H28=0,"OK",IF(AND(ABS(H28)>K28,ABS(G28)>J28),IF(O28="","Please comment","Comment made"),"OK")))) -> Comment made | O28: More resources available to process write offs.
C30: National Non Domestic Rate
B31: =+B28+1 -> 12 | C31: Receipts collected between April 2015 - June 2015 (Quarter 1 - QRC3 2015-16) | D31: =VLOOKUP('QRC4 Form'!I1,Data!A12:AE337,8,FALSE) -> 7027 | E31: ='QRC4 Form'!K61 -> 7027 | G31: =ABS(+E31-D31) -> 0 | H31: =+IF(D31=0,"-",+G31/D31) -> 0 | J31: 0 | K31: 0.1 | M31: =IF(E31=0,"Zero in 2015-16",IF(G31=0,"OK",IF(H31=0,"OK",IF(AND(ABS(H31)>K31,ABS(G31)>J31),IF(O31="","Please comment","Comment made"),"OK")))) -> OK
B32: =+B31+1 -> 13 | C32: Receipts collected between July 2015 - September 2015 (Quarter 2 - QRC3 2015-16) | D32: =VLOOKUP('QRC4 Form'!I1,Data!A12:AE337,9,FALSE) -> 5641 | E32: ='QRC4 Form'!K63 -> 5641 | G32: =ABS(+E32-D32) -> 0 | H32: =+IF(D32=0,"-",+G32/D32) -> 0 | J32: 0 | K32: 0.1 | M32: =IF(E32=0,"Zero in 2015-16",IF(G32=0,"OK",IF(H32=0,"OK",IF(AND(ABS(H32)>K32,ABS(G32)>J32),IF(O32="","Please comment","Comment made"),"OK")))) -> OK
B33: =+B32+1 -> 14 | C33: Receipts collected between October 2015 - December 2015 (Quarter 3 - QRC3 2015-16) | D33: =VLOOKUP('QRC4 Form'!I1,Data!A12:AE337,10,FALSE) -> 5608 | E33: ='QRC4 Form'!K65 -> 5608 | G33: =ABS(+E33-D33) -> 0 | H33: =+IF(D33=0,"-",+G33/D33) -> 0 | J33: 0 | K33: 0.1 | M33: =IF(E33=0,"Zero in 2015-16",IF(G33=0,"OK",IF(H33=0,"OK",IF(AND(ABS(H33)>K33,ABS(G33)>J33),IF(O33="","Please comment","Comment made"),"OK")))) -> OK
B34: =+B33+1 -> 15 | C34: Receipts collected between April 2015 - December 2015 (Quarter 1 + 2 + 3 - QRC3 2015-16) | D34: =VLOOKUP('QRC4 Form'!I1,Data!A12:AE337,11,FALSE) -> 18276 | E34: =+E31+E32+E33 -> 18276 | G34: =ABS(+E34-D34) -> 0 | H34: =+IF(D34=0,"-",+G34/D34) -> 0 | J34: 0 | K34: 0.2 | M34: =IF(E34=0,"Zero in 2015-16",IF(G34=0,"OK",IF(H34=0,"OK",IF(AND(ABS(H34)>K34,ABS(G34)>J34),IF(O34="","Please comment","Comment made"),"OK")))) -> OK
B35: =+B34+1 -> 16 | C35: Receipts collected between January 2015 - March 2015 (Quarter 4 - QRC4 2014-15) | D35: =VLOOKUP('QRC4 Form'!I1,Data!A12:AE337,29,FALSE) -> 2650 | E35: =+'QRC4 Form'!K67 -> 2993 | G35: =ABS(+E35-D35) -> 343 | H35: =+IF(D35=0,"-",+G35/D35) -> 0.12943396 | J35: 0 | K35: 0.2 | M35: =IF(E35=0,"Zero in 2015-16",IF(G35=0,"OK",IF(H35=0,"OK",IF(AND(ABS(H35)>K35,ABS(G35)>J35),IF(O35="","Please comment","Comment made"),"OK")))) -> OK
B36: =+B35+1 -> 17 | C36: Total estimated receipts of non-domestic rates in 2015-16, irrespective of year to which the receipts relate | D36: =VLOOKUP('QRC4 Form'!I1,Data!A12:AE337,28,FALSE) -> 19840 | E36: ='QRC4 Form'!K51 -> 21269 | G36: =ABS(+E36-D36) -> 1429 | H36: =+IF(D36=0,"-",+G36/D36) -> 0.07202621 | J36: 0 | K36: 0.2 | M36: =IF(E36=0,"Zero in 2015-16",IF(G36=0,"OK",IF(H36=0,"OK",IF(AND(ABS(H36)>K36,ABS(G36)>J36),IF(O36="","Please comment","Comment made"),"OK")))) -> OK
B37: =+B36+1 -> 18 | C37: Prepayments & cash receipts collected in previous years in respect of 2015-16 | D37: =VLOOKUP('QRC4 Form'!I1,Data!A12:AE337,27,FALSE) -> 156 | E37: ='QRC4 Form'!K49 -> 99 | G37: =ABS(+E37-D37) -> 57 | H37: =+IF(D37=0,"-",+G37/D37) -> 0.36538462 | J37: 0 | K37: 0.1 | M37: =IF(E37=0,"Zero in 2015-16",IF(G37=0,"OK",IF(H37=0,"OK",IF(AND(ABS(H37)>K37,ABS(G37)>J37),IF(O37="","Please comment","Comment made"),"OK")))) -> Comment made | O37: Less prepayments allocated due to a bank holiday prior to year end (Easter).
B38: =+B37+1 -> 19 | C38: In-year collection rate for 2015-16 | D38: =VLOOKUP('QRC4 Form'!I1,Data!A12:AE337,25,FALSE)/100 -> 0.9851 | E38: ='QRC4 Form'!K44/100 -> 0.9825 | G38: =ABS(+E38-D38)*100 -> 0.26 | J38: 1.5 | M38: =IF(E38=0,"Zero in 2015-16",IF(G38=0,"OK",IF(H38=0,"OK",IF(AND(ABS(H38)>K38,ABS(G38)>J38),IF(O38="","Please comment","Comment made"),"OK")))) -> OK
G40: =+'[6]Main Validation'!$G46 -> Total number of questions | M40: =+MAX(B18:B38) -> 19
G41: =+'[6]Main Validation'!$G47 -> Number where no comment required | M41: =COUNTIF($M$18:$M$38,"OK") -> 17
G42: =+'[6]Main Validation'!$G48 -> Number where last year's value was zero | M42: =COUNTIF($M$17:$M$41,"Zero values") -> 0
G43: =+'[6]Main Validation'!$G49 -> Number where comment is required | M43: =COUNTIF($M$18:$M$38,"Please comment") -> 0
G44: =+'[6]Main Validation'!$G50 -> Number of comments still required | M44: =(COUNTIF($O$18:$O$38,"")-2-(M40-M43)) -> -2
B45: Please provide any further comments below

Sheet LCTS Validation
A2: Localised Council tax support (QRC4)
A3: 2015-16
A4: Validation Checks
A5: =+[5]Instructions!D13 -> v1.0
B6: =+CONCATENATE("Local authority : ",+'QRC4 Form'!E19," ",) -> Local authority : Hastings
B7: =+CONCATENATE("Local authority : ",+'QRC4 Form'!E20," ",) -> Local authority : E1433
B8: =+CONCATENATE("Local authority contact name : ",+'QRC4 Form'!E21) -> Local authority contact name : NICK BROCKLEBANK
B9: =+CONCATENATE("Local authority contact number : ",+'QRC4 Form'!E22) -> Local authority contact number : 01424 451563
B10: =+CONCATENATE("Local authority contact email address : ",+'QRC4 Form'!E23) -> Local authority contact email address : nbrocklebank@hastings.gov.uk
B12: This sheet automatically highlights any validation queries and provides space for your explanations
B13: The note QRC4 Validation Checks 2015-16 provides further details on the validations we carry out. Please consult this when completing this validation sheet
D16: Data | G16: Difference | J16: Parameters
D17: QRC3 | E17: QRC4 | G17: Actual | H17: % | J17: Actual | K17: %
C18: LCTS Administration Funding Grant | D18: £'000s | E18: £'000s | G18: £'000s | J18: £'000s
B21: 1 | C21: Test 1 : Compares Line 3 on QRC4 15-16 with Line 5 on QRC3 15-16 Total claimants in receipt of a reduced council tax bill as at 30/06/15 | D21: =VLOOKUP('QRC4 Form'!I1,Data!A12:AN337,38,FALSE) -> 0 | E21: ='LCTS Form'!D24 -> 11235 | G21: =ABS(E21-D21) -> 11235 | H21: 0 | J21: 0 | K21: 0.05 | M21: =IF(E21=0,"Zero in QRC4",IF(G21=J21,"OK",IF(O21="","Please Comment","Comment made"))) -> Comment made | O21: Figures not previously entered
B23: 2 | C23: Test 2 : Compares Line 3 on QRC4 15-16 with Line 5 on QRC3 15-16 Total claimants in receipt of a reduced council tax bill as at 30/09/15 | D23: =VLOOKUP('QRC4 Form'!I1,Data!A12:AN337,39,FALSE) -> 0 | E23: ='LCTS Form'!E24 -> 11056 | G23: =ABS(E23-D23) -> 11056 | H23: 0 | J23: 0 | K23: 0.05 | M23: =IF(E23=0,"Zero in QRC4",IF(G23=J23,"OK",IF(O21="","Please Comment","Comment made"))) -> Comment made | O23: Figures not previously entered
B25: 3 | C25: Test 3 : Compares Line 1 on QRC4 15-16 with Line 3 on QRC3 15-16 Pensioner claimants in receipt of a reduced council tax bill as at 31/12/15 | D25: =VLOOKUP('QRC4 Form'!I1,Data!A12:AN337,34,FALSE) -> 4126 | E25: ='LCTS Form'!F20 -> 4126 | G25: =ABS(E25-D25) -> 0 | H25: =IF(D25=0,"-",G25/D25) -> 0 | J25: 0 | K25: 0.05 | M25: =IF(E25=0,"Zero in QRC4",IF(G25=J25,"OK",IF(O25="","Please Comment","Comment made"))) -> OK
B27: 4 | C27: Test 4 : Compares Line 2 on QRC4 15-16 with Line 4 on QRC3 15-16 Working age claimants in receipt of a reduced council tax bill as at 31/12/15 | D27: =VLOOKUP('QRC4 Form'!I1,Data!A12:AN337,37,FALSE) -> 6819 | E27: ='LCTS Form'!F22 -> 6819 | G27: =ABS(E27-D27) -> 0 | H27: =IF(D27=0,"-",G27/D27) -> 0 | J27: 0 | K27: 0.05 | M27: =IF(E27=0,"Zero in QRC4",IF(G27=J27,"OK",IF(O25="","Please Comment","Comment made"))) -> OK
B29: 5 | C29: Test 5 : Compares Line 1 column 4 with Line 1 column 3 on QRC4 15-16 | D29: ='LCTS Form'!F20 -> 4126 | E29: ='LCTS Form'!G20 -> 4065 | G29: =ABS(E29-D29) -> 61 | H29: =IF(D29=0,"-",G29/D29) -> 0.014784295 | J29: 0 | K29: 0.05 | M29: =IF(E29=0,"Zero in QRC4",IF(ABS(H29)<K29,"OK",IF(O29="","Please Comment","Comment made"))) -> OK
B31: 6 | C31: Test 6 : Compares Line 2 column 4 with Line 2 column 3 on QRC4 15-16 | D31: ='LCTS Form'!F22 -> 6819 | E31: ='LCTS Form'!G22 -> 6820 | G31: =ABS(E31-D31) -> 1 | H31: =IF(D31=0,"-",G31/D31) -> 0.00014664907 | J31: 0 | K31: 0.05 | M31: =IF(E31=0,"Zero in QRC4",IF(ABS(H31)<K31,"OK",IF(O31="","Please Comment","Comment made"))) -> OK
D32: Calculated | E32: QRC4
B33: 7 | C33: Test 7 : Check calculation for Line 3 on QRC4 15-16 | D33: ='LCTS Form'!G20+'LCTS Form'!G22 -> 10885 | E33: ='LCTS Form'!G24 -> 10885 | G33: =ABS(+E33-D33) -> 0 | H33: 0 | J33: 0 | K33: 0.05 | M33: =IF(E33=0,"Zero in QRC4",IF(G33=J33,"OK",IF(O33="","Please Comment","Comment made"))) -> OK
G35: Total number of questions | M35: =+MAX(B20:B33) -> 7
G36: Number where no comment required | M36: =COUNTIF($M$20:$M$33,"OK") -> 5
G37: Number where last year's value was zero | M37: =COUNTIF($M$20:$M$33,"Zero values") -> 0
G38: Number where comment is required | M38: =COUNTIF($M$20:$M$33,"Please comment") -> 0
G39: Number of comments made | M39: =COUNTIF($M$20:$M$33,"Comment made") -> 2
B40: Please provide any further comments below

Sheet Data
A2: 1 | B2: 2 | C2: 3 | D2: 4 | E2: 5 | F2: 6 | G2: 7 | H2: 8 | I2: 9 | J2: 10 | K2: 11 | L2: 12 | M2: 13 | N2: 14 | O2: 15 | P2: 16 | Q2: 17 | R2: 18 | S2: 19 | T2: 20 | U2: 21 | V2: 22 | W2: 23 | X2: 24 | Y2: 25 | Z2: 26 | AA2: 27 | AB2: 28 | AC2: 29 | AD2: 30 | AE2: 31 | AF2: 32 | AG2: 33 | AH2: 34 | AI2: 35 | AJ2: 36 | AK2: 37 | AL2: 38 | AM2: 39 | AN2: 40
L5: Council Tax data from QRC4 2014-15 | U5: NNDR data from QRC4 2014-15 | AD5: Council Tax data from QRC4 2014-15 | AF5: Localised Council tax support
L6: Est net collectable | M6: Prepayments/cash | N6: Est receipts of 2014-15 | O6: Total receipts of | P6: Council tax in year | Q6: Est receipt of | R6: Est receipt of | S6: Total receipt | T6: Ctax receipts | U6: Est net collectable | V6: Prepayments/cash | W6: Est receipts of 2014-15 | X6: Total receipts of | Y6: NNDR in year | Z6: Est receipt of | AA6: Est receipt of | AB6: Total receipt | AC6: NNDR receipts | AD6: CT Arrears | AE6: Total CT write offs in 2014-15 | AI6: Localised Council tax support
D7: Council Tax info from QRC3 2015-16 | H7: NNDR info from QRC3 2015-16 | L7: debit iro | M7: receipts iro | N7: ctaxes collected | O7: 14-15 CT in | P7: collection rate | Q7: previous yr | R7: 2013-14 ctaxes | S7: of C Taxes received | T7: Jan 2015-Mar 2015 | U7: debit iro | V7: receipts iro | W7: NNDR collected | X7: 2014-15 NNDR | Y7: collection rate | Z7: previous yr | AA7: 2014-15 NNDR | AB7: of NNDR | AC7: Jan 2015-Mar 2015 | AD7: at end of | AF7: Pensioner claimants | AI7: Working-age claimants | AM7: Localised Council tax support
A8: No. | B8: Local Authority | C8: Ecodes | D8: Qtr1 | E8: Qtr2 | F8: Qtr3 | G8: Total Qtrs | H8: Qtr1 | I8: Qtr2 | J8: Qtr3 | K8: Total Qtrs | L8: 2014-15 | M8: 2014-15 | N8: 2014-15 | O8: 2014-15 | P8: 2014-15 | Q8: ctaxes received | R8: received before | S8: in 2014-15 | U8: 2014-15 | V8: 2014-15 | W8: in 2014-15 | Y8: 2014-15 | Z8: NNDR received | AA8: received | AB8: received in 2014-15 | AC8: irrespective | AD8: 2014-15 | AF8: Qtr1 | AG8: Qtr2 | AH8: Qtr3 | AI8: Qtr1 | AJ8: Qtr2 | AK8: Qtr3 | AL8: Qtr1 | AM8: Qtr2 | AN8: Qtr3
D9: £000 | E9: £000 | F9: £000 | G9: £000 | H9: £000 | I9: £000 | J9: £000 | K9: £000 | R9: 42095 | S9: irrespective of year | AA9: in 2014-15 | AB9: irrespective of year | AC9: of year | AF9: £000 | AG9: £000 | AH9: £000 | AI9: £000 | AJ9: £000 | AK9: £000 | AL9: £000 | AM9: £000 | AN9: £000
L10: Line 1 | M10: Line 2 | N10: Line 3 | O10: Line 4 | P10: Line 5 | Q10: Line 6 | R10: Line 7 | S10: Line 8 | T10: Line 12 | U10: Line 1 | V10: Line 2 | W10: Line 3 | X10: Line 4 | Y10: Line 5 | Z10: Line 6 | AA10: Line 7 | AB10: Line 8 | AC10: Line 12 | AD10: Line 25 | AE10: Lines 20a, 20b & 23 | AL10: Totals | AM10: Totals | AN10: Totals
A12: 1 | B12: Adur | C12: E3831 | D12: 9456 | E12: 9242 | F12: 9323 | G12: =SUM(D12:F12) -> 28021 | H12: 5710 | I12: 5000 | J12: 4872 | K12: =SUM(H12:J12) -> 15582 | L12: 32253 | M12: 609 | N12: 30877 | O12: 31486 | P12: 97.62 | Q12: 530 | R12: 635 | S12: 32042 | T12: 4479 | U12: 17373 | V12: 459 | W12: 16225 | X12: 16684 | Y12: 96.03 | Z12: 1224 | AA12: 348 | AB12: 17797 | AC12: 2881 | AD12: 2311 | AE12: 21 | AF12: 0 | AG12: 0 | AH12: 2094 | AI12: 0 | AJ12: 0 | AK12: 2243 | AL12: 0 | AM12: 0 | AN12: 4337
A13: 2 | B13: Allerdale | C13: E0931 | D13: 13984 | E13: 13633 | F13: 13465 | G13: =SUM(D13:F13) -> 41082 | H13: 8302 | I13: 7257 | J13: 6874 | K13: =SUM(H13:J13) -> 22433 | L13: 46396 | M13: 622 | N13: 44752 | O13: 45374 | P13: 97.8 | Q13: 642 | R13: 758 | S13: 46152 | T13: 6257 | U13: 27001 | V13: 66 | W13: 26321 | X13: 26387 | Y13: 97.73 | Z13: -2048 | AA13: 374 | AB13: 24647 | AC13: 4009 | AD13: 2979 | AE13: 5 | AF13: 0 | AG13: 0 | AH13: 3756 | AI13: 0 | AJ13: 0 | AK13: 4225 | AL13: 0 | AM13: 0 | AN13: 7981
A14: 3 | B14: Amber Valley | C14: E1031 | D14: 17338 | E14: 16996 | F14: 17071 | G14: =SUM(D14:F14) -> 51405 | H14: 9015 | I14: 10038 | J14: 8159 | K14: =SUM(H14:J14) -> 27212 | L14: 57424 | M14: 1068 | N14: 55607 | O14: 56675 | P14: 98.7 | Q14: 525 | R14: 1115 | S14: 57247 | T14: 7316 | U14: 30755 | V14: 247 | W14: 30165 | X14: 30412 | Y14: 98.88 | Z14: -1109 | AA14: 251 | AB14: 29307 | AC14: 3632 | AD14: 1184 | AE14: 35 | AF14: 0 | AG14: 0 | AH14: 4547 | AI14: 0 | AJ14: 0 | AK14: 4706 | AL14: 0 | AM14: 0 | AN14: 9253
A15: 4 | B15: Arun | C15: E3832 | D15: 25631 | E15: 24960 | F15: 25441 | G15: =SUM(D15:F15) -> 76032 | H15: 9010 | I15: 10161 | J15: 9151 | K15: =SUM(H15:J15) -> 28322 | L15: 86666 | M15: 505 | N15: 84557 | O15: 85062 | P15: 98.15 | Q15: 877 | R15: 588 | S15: 86022 | T15: 11221 | U15: 34348 | V15: 197 | W15: 33790 | X15: 33987 | Y15: 98.95 | Z15: -584 | AA15: 212 | AB15: 33418 | AC15: 5327 | AD15: 3822 | AE15: 20 | AF15: 6145 | AG15: 6055 | AH15: 5993 | AI15: 5986 | AJ15: 5895 | AK15: 5781 | AL15: 12131 | AM15: 11950 | AN15: 11774
A16: 5 | B16: Ashfield | C16: E3031 | D16: 15079 | E16: 14657 | F16: 14716 | G16: =SUM(D16:F16) -> 44452 | H16: 9516 | I16: 9500 | J16: 9452 | K16: =SUM(H16:J16) -> 28468 | L16: 50928 | M16: 652 | N16: 48654 | O16: 49306 | P16: 96.82 | Q16: 1119 | R16: 754 | S16: 50527 | T16: 7149 | U16: 33693 | V16: 97 | W16: 32852 | X16: 32949 | Y16: 97.79 | Z16: 255 | AA16: 166 | AB16: 33273 | AC16: 5541 | AD16: 4285 | AE16: 12 | AF16: 5126 | AG16: 5050 | AH16: 4986 | AI16: 7214 | AJ16: 7158 | AK16: 7083 | AL16: 12340 | AM16: 12208 | AN16: 12069
A17: 6 | B17: Ashford | C17: E2231 | D17: 24478 | E17: 18395 | F17: 18476 | G17: =SUM(D17:F17) -> 61349 | H17: 17238 | I17: 12180 | J17: 11373 | K17: =SUM(H17:J17) -> 40791 | L17: 62052 | M17: 928 | N17: 59871 | O17: 60799 | P17: 97.98 | Q17: 365 | R17: 1081 | S17: 61317 | T17: 2364 | U17: 46852 | V17: 413 | W17: 46121 | X17: 46534 | Y17: 99.32 | Z17: -788 | AA17: 842 | AB17: 46175 | AC17: 4061 | AD17: 3732 | AE17: -7 | AF17: 0 | AG17: 0 | AH17: 3535 | AI17: 0 | AJ17: 0 | AK17: 4678 | AL17: 0 | AM17: 0 | AN17: 8213
A18: 7 | B18: Aylesbury Vale | C18: E0431 | D18: 31189 | E18: 30351 | F18: 31039 | G18: =SUM(D18:F18) -> 92579 | H18: 14876 | I18: 13448 | J18: 14762 | K18: =SUM(H18:J18) -> 43086 | L18: 102797 | M18: 929 | N18: 100152 | O18: 101081 | P18: 98.33 | Q18: 1309 | R18: 1205 | S18: 102666 | T18: 13940 | U18: 50150 | V18: 791 | W18: 49108 | X18: 49899 | Y18: 99.5 | Z18: 773 | AA18: 925 | AB18: 50806 | AC18: 9399 | AD18: 4923 | AE18: 99 | AF18: 3763 | AG18: 3722 | AH18: 3672 | AI18: 4773 | AJ18: 4812 | AK18: 4745 | AL18: 8536 | AM18: 8534 | AN18: 8417
A19: 8 | B19: Babergh | C19: E3531 | D19: 16549 | E19: 13779 | F19: 13654 | G19: =SUM(D19:F19) -> 43982 | H19: 7626 | I19: 7028 | J19: 6510 | K19: =SUM(H19:J19) -> 21164 | L19: 47765 | M19: 534 | N19: 46451 | O19: 46985 | P19: 98.37 | Q19: 547 | R19: 560 | S19: 47558 | T19: 4070 | U19: 23264 | V19: 63 | W19: 22772 | X19: 22835 | Y19: 98.16 | Z19: 207 | AA19: 68 | AB19: 23047 | AC19: 2013 | AD19: 1754 | AE19: 22 | AF19: 2951 | AG19: 2883 | AH19: 2841 | AI19: 2699 | AJ19: 2675 | AK19: 2642 | AL19: 5650 | AM19: 5558 | AN19: 5483
A20: 9 | B20: Barking and Dagenham | C20: E5030 | D20: 17537 | E20: 17299 | F20: 17360 | G20: =SUM(D20:F20) -> 52196 | H20: 17903 | I20: 13497 | J20: 13229 | K20: =SUM(H20:J20) -> 44629 | L20: 58161 | M20: 1449 | N20: 53404 | O20: 54853 | P20: 94.31 | Q20: 1635 | R20: 1621 | S20: 56660 | T20: 8991 | U20: 60244 | V20: 410 | W20: 58563 | X20: 58973 | Y20: 97.89 | Z20: 87 | AA20: 444 | AB20: 59094 | AC20: 11095 | AD20: 19170 | AE20: 16 | AF20: 0 | AG20: 0 | AH20: 6260 | AI20: 0 | AJ20: 0 | AK20: 13373 | AL20: 0 | AM20: 0 | AN20: 19633
A21: 10 | B21: Barnet | C21: E5031 | D21: 54766 | E21: 50359 | F21: 51290 | G21: =SUM(D21:F21) -> 156415 | H21: 29122 | I21: 31703 | J21: 26961 | K21: =SUM(H21:J21) -> 87786 | L21: 184808 | M21: 2074 | N21: 176178 | O21: 178252 | P21: 96.45 | Q21: 3567 | R21: 3491 | S21: 183236 | T21: 29590 | U21: 112136 | V21: 298 | W21: 107711 | X21: 108009 | Y21: 96.32 | Z21: -501 | AA21: 1487 | AB21: 108697 | AC21: 17742 | AD21: 27025 | AE21: 3 | AF21: 9045 | AG21: 8984 | AH21: 8903 | AI21: 19389 | AJ21: 19101 | AK21: 18994 | AL21: 28434 | AM21: 28085 | AN21: 27897
A22: 11 | B22: Barnsley | C22: E4401 | D22: 25136 | E22: 27762 | F22: 24253 | G22: =SUM(D22:F22) -> 77151 | H22: 14935 | I22: 14488 | J22: 13263 | K22: =SUM(H22:J22) -> 42686 | L22: 90531 | M22: 961 | N22: 85660 | O22: 86621 | P22: 95.68 | Q22: 2361 | R22: 1234 | S22: 89255 | T22: 18377 | U22: 54391 | V22: 3116 | W22: 49768 | X22: 52884 | Y22: 97.23 | Z22: -1360 | AA22: 220 | AB22: 48628 | AC22: 10033 | AD22: 12513 | AE22: 7 | AF22: 10510 | AG22: 10401 | AH22: 10287 | AI22: 13613 | AJ22: 13589 | AK22: 13553 | AL22: 24123 | AM22: 23990 | AN22: 23840
A23: 12 | B23: Barrow-in-Furness | C23: E0932 | D23: 8563 | E23: 8674 | F23: 8237 | G23: =SUM(D23:F23) -> 25474 | H23: 6181 | I23: 5787 | J23: 6710 | K23: =SUM(H23:J23) -> 18678 | L23: 29448 | M23: 422 | N23: 28071 | O23: 28493 | P23: 96.76 | Q23: 615 | R23: 575 | S23: 29261 | T23: 4697 | U23: 23777 | V23: 741 | W23: 22725 | X23: 23466 | Y23: 98.69 | Z23: -251 | AA23: 1095 | AB23: 23569 | AC23: 4081 | AD23: 3270 | AE23: 3 | AF23: 2930 | AG23: 2910 | AH23: 2872 | AI23: 4182 | AJ23: 4103 | AK23: 4051 | AL23: 7112 | AM23: 7013 | AN23: 6923
... A337: 326 | B337: York | C337: E2701 | D337: 27617 | E337: 26592 | F337: 26986 | G337: =SUM(D337:F337) -> 81195 | H337: 33116 | I337: 27499 | J337: 26430 | K337: =SUM(H337:J337) -> 87045 | L337: 92534 | M337: 879 | N337: 89390 | O337: 90269 | P337: 97.55 | Q337: 978 | R337: 1103 | S337: 91471 | T337: 11455 | U337: 102219 | V337: 868 | W337: 99515 | X337: 100383 | Y337: 98.2 | Z337: -1116 | AA337: 814 | AB337: 99213 | AC337: 16000 | AD337: 5969 | AE337: 56 | AF337: 0 | AG337: 0 | AH337: 5175 | AI337: 0 | AJ337: 0 | AK337: 5054 | AL337: 0 | AM337: 0 | AN337: 10229
A338: 327 | B338: ZZZZ | C338: EZZZZ | D338: =SUM(D12:D337) -> 7315011 | E338: =SUM(E12:E337) -> 7090992 | F338: =SUM(F12:F337) -> 7090760.9 | G338: =SUM(G12:G337) -> 21496764 | H338: =SUM(H12:H337) -> 7290375 | I338: =SUM(I12:I337) -> 6280055 | J338: =SUM(J12:J337) -> 6086166 | K338: =SUM(K12:K337) -> 19656596 | ... O338: =SUM(O12:O337) -> 24052365 | P338: =+O338/L338*100 -> 97.011884 | Q338: =SUM(Q12:Q337) -> 457068 | R338: =SUM(R12:R337) -> 392459 | S338: =SUM(S12:S337) -> 24558429 | T338: =SUM(T12:T337) -> 3665613 | U338: =SUM(U12:U337) -> 23510378 | V338: =SUM(V12:V337) -> 269410 | W338: =SUM(W12:W337) -> 22796952 | X338: =SUM(X12:X337) -> 23066362 | Y338: =+X338/U338*100 -> 98.111404 | Z338: =SUM(Z12:Z337) -> -290979 | AA338: =SUM(AA12:AA337) -> 361636 | AB338: =SUM(AB12:AB337) -> 22867609 | AC338: =SUM(AC12:AC337) -> 3329403 | AD338: =SUM(AD12:AD337) -> 2657430.9 | AE338: =SUM(AE12:AE337) -> 10273.1 | AF338: =SUM(AF12:AF337) -> 899213 | AG338: =SUM(AG12:AG337) -> 891571 | ... AN338: =SUM(AN12:AN337) -> 4362084

Sheet Access1
A1: LA_Code | B1: Fin_Year | C1: Row_No | D1: Col_No | E1: Table_Name | F1: Amount | G1: Notes | H1: Notes_1 | I1: Val_Contact_Name | J1: Val_Contact_Number | K1: Val_Contact_Email
A2: ='QRC4 Form'!$E$20 -> E1433 | B2: 2015 | C2: 1 | D2: 1 | E2: QRC_4 | F2: ='QRC4 Form'!I35 -> 42642 | G2: ='QRC4 Form'!B74&'QRC4 Validation'!O18 | I2: ='QRC4 Form'!E21 -> NICK BROCKLEBANK | J2: ='QRC4 Form'!E22 -> 01424 451563 | K2: ='QRC4 Form'!E23 -> nbrocklebank@hastings.gov.uk
A3: ='QRC4 Form'!$E$20 -> E1433 | B3: 2015 | C3: 2 | D3: 1 | E3: QRC_4 | F3: ='QRC4 Form'!I37 -> 581 | G3: ='QRC4 Form'!F74&'QRC4 Validation'!O19
A4: ='QRC4 Form'!$E$20 -> E1433 | B4: 2015 | C4: 3 | D4: 1 | E4: QRC_4 | F4: ='QRC4 Form'!I39 -> 40450 | G4: ='QRC4 Form'!B132&'QRC4 Validation'!O20
A5: ='QRC4 Form'!$E$20 -> E1433 | B5: 2015 | C5: 4 | D5: 1 | E5: QRC_4 | F5: ='QRC4 Form'!I41 -> 41031 | G5: ='QRC4 Form'!F132&'QRC4 Validation'!O21
A6: ='QRC4 Form'!$E$20 -> E1433 | B6: 2015 | C6: 5 | D6: 3 | E6: QRC_4 | F6: ='QRC4 Form'!I44 -> 96.22 | G6: ='QRC4 Validation'!O22 -> 0
A7: ='QRC4 Form'!$E$20 -> E1433 | B7: 2015 | C7: 6 | D7: 1 | E7: QRC_4 | F7: ='QRC4 Form'!I47 -> 856 | G7: ='QRC4 Validation'!O23 -> 0
A8: ='QRC4 Form'!$E$20 -> E1433 | B8: 2015 | C8: 7 | D8: 1 | E8: QRC_4 | F8: ='QRC4 Form'!I49 -> 609 | G8: ='QRC4 Validation'!O24 -> 0
A9: ='QRC4 Form'!$E$20 -> E1433 | B9: 2015 | C9: 8 | D9: 1 | E9: QRC_4 | F9: ='QRC4 Form'!I51 -> 41915 | G9: ='QRC4 Validation'!O25 -> 0
A10: ='QRC4 Form'!$E$20 -> E1433 | B10: 2015 | C10: 9 | D10: 1 | E10: QRC_4 | F10: ='QRC4 Form'!I61 -> 14339 | G10: ='QRC4 Validation'!O26 -> 0
A11: ='QRC4 Form'!$E$20 -> E1433 | B11: 2015 | C11: 10 | D11: 1 | E11: QRC_4 | F11: ='QRC4 Form'!I63 -> 11900 | G11: ='QRC4 Validation'!O27 -> 0
A12: ='QRC4 Form'!$E$20 -> E1433 | B12: 2015 | C12: 11 | D12: 1 | E12: QRC_4 | F12: ='QRC4 Form'!I65 -> 11677 | G12: ='QRC4 Validation'!O28 -> More resources available to process write offs.
A13: ='QRC4 Form'!$E$20 -> E1433 | B13: 2015 | C13: 12 | D13: 1 | E13: QRC_4 | F13: ='QRC4 Form'!I67 -> 3999 | G13: ='QRC4 Validation'!O31 -> 0
A14: ='QRC4 Form'!$E$20 -> E1433 | B14: 2015 | C14: 13 | D14: 1 | E14: QRC_4 | F14: ='QRC4 Form'!I96 -> 5125 | G14: ='QRC4 Validation'!O32 -> 0
A15: ='QRC4 Form'!$E$20 -> E1433 | B15: 2015 | C15: 14 | D15: 1 | E15: QRC_4 | F15: ='QRC4 Form'!I98 -> -268 | G15: ='QRC4 Validation'!O33 -> 0
A16: ='QRC4 Form'!$E$20 -> E1433 | B16: 2015 | C16: 15 | D16: 1 | E16: QRC_4 | F16: ='QRC4 Form'!I102 -> 4857 | G16: ='QRC4 Validation'!O34 -> 0
A17: ='QRC4 Form'!$E$20 -> E1433 | B17: 2015 | C17: 16 | D17: 1 | E17: QRC_4 | F17: ='QRC4 Form'!I104 -> 511 | G17: ='QRC4 Validation'!O35 -> 0
A18: ='QRC4 Form'!$E$20 -> E1433 | B18: 2015 | C18: 17 | D18: 1 | E18: QRC_4 | F18: ='QRC4 Form'!I106 -> 345 | G18: ='QRC4 Validation'!O36 -> 0
A19: ='QRC4 Form'!$E$20 -> E1433 | B19: 2015 | C19: 18 | D19: 1 | E19: QRC_4 | F19: ='QRC4 Form'!I108 -> 403 | G19: ='QRC4 Validation'!O37 -> Less prepayments allocated due to a bank holiday prior to year end (Easter).
A20: ='QRC4 Form'!$E$20 -> E1433 | B20: 2015 | C20: 19 | D20: 1 | E20: QRC_4 | F20: ='QRC4 Form'!I110 -> 221 | G20: ='QRC4 Validation'!O38 -> 0
A21: ='QRC4 Form'!$E$20 -> E1433 | B21: 2015 | C21: 20 | D21: 1 | E21: QRC_4 | F21: ='QRC4 Form'!I112 -> 3377
A22: ='QRC4 Form'!$E$20 -> E1433 | B22: 2015 | C22: 21 | D22: 1 | E22: QRC_4 | F22: ='QRC4 Form'!I114 -> 2439
A23: ='QRC4 Form'!$E$20 -> E1433 | B23: 2015 | C23: 22 | D23: 1 | E23: QRC_4 | F23: ='QRC4 Form'!I115 -> 938
A24: ='QRC4 Form'!$E$20 -> E1433 | B24: 2015 | C24: 23 | D24: 1 | E24: QRC_4 | F24: ='QRC4 Form'!I117 -> 1770
A25: ='QRC4 Form'!$E$20 -> E1433 | B25: 2015 | C25: 24 | D25: 1 | E25: QRC_4 | F25: ='QRC4 Form'!I120 -> 54
A26: ='QRC4 Form'!$E$20 -> E1433 | B26: 2015 | C26: 25 | D26: 1 | E26: QRC_4 | F26: ='QRC4 Form'!I122 -> 1716
A27: ='QRC4 Form'!$E$20 -> E1433 | B27: 2015 | C27: 26 | D27: 1 | E27: QRC_4 | F27: ='QRC4 Form'!I124 -> 5093
A28: ='QRC4 Form'!$E$20 -> E1433 | B28: 2015 | C28: 27 | D28: 1 | E28: QRC_4 | F28: ='QRC4 Form'!I127 -> 472
A29: ='QRC4 Form'!$E$20 -> E1433 | B29: 2015 | C29: 1 | D29: 2 | E29: QRC_4 | F29: ='QRC4 Form'!K35 -> 21871
A30: ='QRC4 Form'!$E$20 -> E1433 | B30: 2015 | C30: 2 | D30: 2 | E30: QRC_4 | F30: ='QRC4 Form'!K37 -> 156
A31: ='QRC4 Form'!$E$20 -> E1433 | B31: 2015 | C31: 3 | D31: 2 | E31: QRC_4 | F31: ='QRC4 Form'!K39 -> 21333
A32: ='QRC4 Form'!$E$20 -> E1433 | B32: 2015 | C32: 4 | D32: 2 | E32: QRC_4 | F32: ='QRC4 Form'!K41 -> 21489
A33: ='QRC4 Form'!$E$20 -> E1433 | B33: 2015 | C33: 5 | D33: 4 | E33: QRC_4 | F33: ='QRC4 Form'!K44 -> 98.25
A34: ='QRC4 Form'!$E$20 -> E1433 | B34: 2015 | C34: 6 | D34: 2 | E34: QRC_4 | F34: ='QRC4 Form'!K47 -> -163
A35: ='QRC4 Form'!$E$20 -> E1433 | B35: 2015 | C35: 7 | D35: 2 | E35: QRC_4 | F35: ='QRC4 Form'!K49 -> 99
A36: ='QRC4 Form'!$E$20 -> E1433 | B36: 2015 | C36: 8 | D36: 2 | E36: QRC_4 | F36: ='QRC4 Form'!K51 -> 21269
A37: ='QRC4 Form'!$E$20 -> E1433 | B37: 2015 | C37: 9 | D37: 2 | E37: QRC_4 | F37: ='QRC4 Form'!K61 -> 7027
A38: ='QRC4 Form'!$E$20 -> E1433 | B38: 2015 | C38: 10 | D38: 2 | E38: QRC_4 | F38: ='QRC4 Form'!K63 -> 5641
A39: ='QRC4 Form'!$E$20 -> E1433 | B39: 2015 | C39: 11 | D39: 2 | E39: QRC_4 | F39: ='QRC4 Form'!K65 -> 5608
A40: ='QRC4 Form'!$E$20 -> E1433 | B40: 2015 | C40: 12 | D40: 2 | E40: QRC_4 | F40: ='QRC4 Form'!K67 -> 2993
...

Sheet MV
A1: LA_Code | B1: Fin_Year | C1: Row_No | D1: Col_No | E1: Table_Name | F1: Amount
A2: ='QRC4 Form'!$E$20 -> E1433 | B2: 2015 | C2: 9 | D2: 1 | E2: QRC_4 | F2: ='QRC4 Form'!I61 -> 14339
A3: ='QRC4 Form'!$E$20 -> E1433 | B3: 2015 | C3: 10 | D3: 1 | E3: QRC_4 | F3: ='QRC4 Form'!I63 -> 11900
A4: ='QRC4 Form'!$E$20 -> E1433 | B4: 2015 | C4: 11 | D4: 1 | E4: QRC_4 | F4: ='QRC4 Form'!I65 -> 11677
A5: ='QRC4 Form'!$E$20 -> E1433 | B5: 2015 | C5: 8 | D5: 1 | E5: QRC_4 | F5: ='QRC4 Form'!I61+'QRC4 Form'!I63+'QRC4 Form'!I65+'QRC4 Form'!I67 -> 41915
A6: ='QRC4 Form'!$E$20 -> E1433 | B6: 2015 | C6: 12 | D6: 1 | E6: QRC_4 | F6: ='QRC4 Form'!I67 -> 3999
A7: ='QRC4 Form'!$E$20 -> E1433 | B7: 2015 | C7: 8 | D7: 1 | E7: QRC_4 | F7: =+'QRC4 Form'!I39+'QRC4 Form'!I47+'QRC4 Form'!I49 -> 41915
A8: ='QRC4 Form'!$E$20 -> E1433 | B8: 2015 | C8: 2 | D8: 1 | E8: QRC_4 | F8: ='QRC4 Form'!I49 -> 609
A9: ='QRC4 Form'!$E$20 -> E1433 | B9: 2015 | C9: 5 | D9: 1 | E9: QRC_4 | F9: 1
A10: ='QRC4 Form'!$E$20 -> E1433 | B10: 2015 | C10: 16 | D10: 1 | E10: QRC_4 | F10: =+'QRC4 Form'!I112+'QRC4 Form'!I122 -> 5093
A11: ='QRC4 Form'!$E$20 -> E1433 | B11: 2015 | C11: 6 | D11: 1 | E11: QRC_4 | F11: ='QRC4 Form'!I47 -> 856
A12: ='QRC4 Form'!$E$20 -> E1433 | B12: 2015 | C12: 9 | D12: 2 | E12: QRC_4 | F12: ='QRC4 Form'!K61 -> 7027
A13: ='QRC4 Form'!$E$20 -> E1433 | B13: 2015 | C13: 10 | D13: 2 | E13: QRC_4 | F13: ='QRC4 Form'!K63 -> 5641
A14: ='QRC4 Form'!$E$20 -> E1433 | B14: 2015 | C14: 11 | D14: 2 | E14: QRC_4 | F14: ='QRC4 Form'!K65 -> 5608
A15: ='QRC4 Form'!$E$20 -> E1433 | B15: 2015 | C15: 12 | D15: 2 | E15: QRC_4 | F15: ='QRC4 Form'!K67 -> 2993
A16: ='QRC4 Form'!$E$20 -> E1433 | B16: 2015 | C16: 5 | D16: 2 | E16: QRC_4 | F16: 1
A17: ='QRC4 Form'!$E$20 -> E1433 | B17: 2015 | C17: 16 | D17: 2 | E17: QRC_4 | F17: =+'QRC4 Form'!K112+'QRC4 Form'!K122 -> 1138
A18: ='QRC4 Form'!$E$20 -> E1433 | B18: 2015 | C18: 6 | D18: 2 | E18: QRC_4 | F18: =+'QRC4 Form'!K39+'QRC4 Form'!K47+'QRC4 Form'!K49 -> 21269
A19: ='QRC4 Form'!$E$20 -> E1433 | B19: 2015 | C19: 2 | D19: 2 | E19: QRC_4 | F19: ='QRC4 Form'!K49 -> 99
A20: ='QRC4 Form'!$E$20 -> E1433 | B20: 2015 | C20: 8 | D20: 2 | E20: QRC_4 | F20: ='QRC4 Form'!K61+'QRC4 Form'!K63+'QRC4 Form'!K65+'QRC4 Form'!K67 -> 21269
A21: ='QRC4 Form'!$E$20 -> E1433 | B21: 2015 | C21: 6 | D21: 2 | E21: QRC_4 | F21: ='QRC4 Form'!K47 -> -163

Sheet LCTSV
A1: LA_Code | B1: Fin_Year | C1: Row_No | D1: Col_No | E1: Table_Name | F1: Amount
A2: ='QRC4 Form'!$E$20 -> E1433 | B2: 2015 | C2: 1 | D2: 1 | E2: LCTSV | F2: ='LCTS Form'!D20 -> 4200
A3: ='QRC4 Form'!$E$20 -> E1433 | B3: 2015 | C3: 2 | D3: 1 | E3: LCTSV | F3: ='LCTS Form'!D22 -> 7035
A4: ='QRC4 Form'!$E$20 -> E1433 | B4: 2015 | C4: 3 | D4: 1 | E4: LCTSV | F4: ='LCTS Form'!D24 -> 11235
A5: ='QRC4 Form'!$E$20 -> E1433 | B5: 2015 | C5: 1 | D5: 2 | E5: LCTSV | F5: ='LCTS Form'!E20 -> 4150
A6: ='QRC4 Form'!$E$20 -> E1433 | B6: 2015 | C6: 2 | D6: 2 | E6: LCTSV | F6: ='LCTS Form'!E22 -> 6906
A7: ='QRC4 Form'!$E$20 -> E1433 | B7: 2015 | C7: 3 | D7: 2 | E7: LCTSV | F7: ='LCTS Form'!E24 -> 11056
A8: ='QRC4 Form'!$E$20 -> E1433 | B8: 2015 | C8: 1 | D8: 3 | E8: LCTSV | F8: ='LCTS Form'!F20 -> 4126
A9: ='QRC4 Form'!$E$20 -> E1433 | B9: 2015 | C9: 2 | D9: 3 | E9: LCTSV | F9: ='LCTS Form'!F22 -> 6819
A10: ='QRC4 Form'!$E$20 -> E1433 | B10: 2015 | C10: 3 | D10: 3 | E10: LCTSV | F10: ='LCTS Form'!F24 -> 10945
A11: ='QRC4 Form'!$E$20 -> E1433 | B11: 2015 | C11: 1 | D11: 4 | E11: LCTSV | F11: ='LCTS Form'!G20 -> 4065
A12: ='QRC4 Form'!$E$20 -> E1433 | B12: 2015 | C12: 2 | D12: 4 | E12: LCTSV | F12: ='LCTS Form'!G22 -> 6820
A13: ='QRC4 Form'!$E$20 -> E1433 | B13: 2015 | C13: 3 | D13: 4 | E13: LCTSV | F13: ='LCTS Form'!G24 -> 10885

Sheet LA_info
A1: ='QRC4 Form'!E19 -> Hastings | B1: QRC4 | C1: QRC4
