Workbook
Name _QRC4: Sheet1!$A$1:$X$6
Name Adur: [1]DATA!#REF!
Name BRprint1: #REF!
Name BRprint2: #REF!
Name CERDATA: '[2]Section A'!#REF!
Name CONTACT: 'QRC4 Form'!$AH$190:$AM$190
Name datar: [3]Data!$A$12:$AM$338
Name datar: [4]Data!$A$8:$AT$334
Name datar: Data!$A$12:$AE$338
Name detruse: #REF!
Name dtlruse: #REF!
Name LAcodes: #REF!
Name LAlist: [3]Data!$B$12:$B$338
Name LAlist: #REF!
Name LAlist: Data!$B$12:$B$338
Name lanames: Data!$B$12:$B$338
Name numberhered: #REF!
Name Table: [3]Data!$A$12:$C$338
Name Table: #REF!
Name Table: Data!$A$12:$C$338
Name table1: #REF!
Name Validation: #REF!
Name zzz: #REF!

Sheet Instructions
A2: 2014-15 QUARTERLY RETURN OF COUNCIL TAX (QRC4)
A3: FINAL OUTTURN INFORMATION 2014-15
B5: This return should be returned no later than Friday 15 May 2015
A7: Please email to qrc.statistics@communities.gsi.gov.uk
A9: Please enter your details after checking that you have selected the correct authority name
A11: Problems with this workbook should be e-mailed to : qrc.statistics@communities.gsi.gov.uk
D13: Ver 1.0
B15: These instructions highlight the features of the electronic form and should be read in conjunction with QRC4 Guidance Notes for 2014-15 and QRC4 Validation Notes for 2014-15.
B19: Completing the form
B20: 1. The form can be set up for each individual local authority by selecting the appropriate authority name from the list. The example shows the local authority ZZZZ. Once a local authority name is selected the spreadsheet will automatically fill in data already known to the Department for Communities and Local Government. There should be no need to change the data but please check it carefully before completing the rest of the form.
B25: 2. There are two types of cell:
C27: White, black border - these cells are blank for new data - Please ensure all the white cells are filled in before submitting the form.
C31: White, blue border - These cells are all calculations and have the appropriate formula. There should be no need to overwrite these cells.
B34: Checking the Validation Sheet
B35: 3. Once the form is complete go to the Validation sheet and check if any of the data require any further explanation. The data are compared with the both the QRC4 for 2013-14 and the QRC3 for 2014-15 and if the change is higher or lower than we would normally expect the percentage change or difference will appear in the blue boxes. If this occurs please provide an explanation for the change in the yellow box provided. For further details on the types of checks we do see QRC4 Validation Notes for 2014-15.
B40: Certifying the Form
B41: 4. When the data have been checked and verified please email the complete form to qrc.statistics@communities.gsi.gov.uk
B43: 5. Print a copy of the form for certification by your Chief Financial Officer / Section 151 officer.
B44: The certified copy of the form must be sent as a scanned pdf copy to qrc.statistics@communities.gsi.gov.uk as soon as possible after completion.
B47: 6. If changes need to be made, please resend both copies of the form.
B49: Problems
B50: 7. If you experience any problems using the form please email qrc.statistics@communities.gsi.gov.uk

Sheet QRC4 Form
I1: 124 | L1: =+Instructions!D13 -> Ver 1.0
A2: QUARTERLY RETURN OF COUNCIL TAXES AND NON-DOMESTIC RATES QRC4
A3: 2014-15
A5: Please e-mail the completed form to : qrc.statistics@communities.gsi.gov.uk
B7: Copies of both this Excel version and a certified version of the QRC4 should reach the Department for Communities and Local Government no later than Friday 15 May 2015
C11: Please enter your details after checking that you have selected the correct authority name
C14: Select your local authority's name from this list
C18: Authority Name | E18: =VLOOKUP(I1,datar,2,FALSE) -> Hastings
C19: E-code | E19: =VLOOKUP(I1,datar,3,FALSE) -> E1433
C20: Local authority contact name | E20: Nick Brocklebank
C21: Local authority contact number | E21: 01424 451563
C22: Local authority e-mail address | E22: nbrocklebank@hastings.gov.uk
B24: SECTION I : COUNCIL TAX AND NON-DOMESTIC RATES - TOTAL RECEIPTS IN THE PERIOD 1 APRIL 2014 TO 31 MARCH 2015
B26: Receipts of council taxes from council tax payers (net of refunds), and receipts of Crown (MOD) contributions in aid of council taxes.
B27: Receipts of non-domestic rates from non-domestic ratepayers, including rates on local authority properties.
B29: Amounts for council tax and non domestic rates should not include any amounts received and payable to the general fund in respect of court costs and penalties.
I31: Council | K31: National Non
I32: Tax | K32: Domestic Rates
B33: PART A | I33: £000 | K33: £000 | P33: =IF(AND(I34>=0,I34<300000),0,1) -> 0
B34: 1 Estimated net collectable debit in respect of 2014-15 | I34: 40903 | K34: 21624
P35: =IF(AND(I36>=0,I36<30000),0,1) -> 0
B36: 2 Prepayments-cash receipts collected in previous years in respect of 2014-15 | I36: 540 | K36: 220
P37: =IF(AND(I38>=0,I38<300000),0,1) -> 0
B38: 3 Estimated 2014-15 receipts collected in 2014-15, net of refunds granted in respect of 2014-15 only | I38: 38903 | K38: 21081
B40: 4 Total 2014-15 receipts, net of refunds granted in respect of 2014-15 only (Line 2 + Line 3) | I40: =I36+I38 -> 39443 | K40: =K36+K38 -> 21301
I42: % | K42: %
B43: 5 In-year collection rate for 2014-15 (Line 4/Line 1 x 100, to 2 decimal places) | I43: =ROUND(I40/I34*100,2) -> 96.43 | K43: =ROUND(K40/K34*100,2) -> 98.51
B44: Please note that this figure should not exceed 100%
I45: £000 | K45: £000 | P45: =IF(I46>=0,0,1) -> 0
B46: 6 Estimated receipts of previous years council taxes or non-domestic rates received in 2014-15 only, | I46: 744 | K46: -1397
B47: net of refunds made in respect of those years | P47: =IF(I48>=0,0,1) -> 0
B48: 7 Estimated receipts of 2015-16 council taxes or non-domestic rates, received before 1 April 2015 and any other | I48: 581 | K48: 156
B49: credits carried forward in respect of those years on 31 March 2015
B50: 8 Total estimated receipts of council taxes or non-domestic rates in 2014-15, irrespective of year to | I50: =+I38+I46+I48 -> 40228 | K50: =+K38+K46+K48 -> 19840
B51: which the receipts relate (Line 3 + Line 6 + Line 7)
B53: PART B
B54: This section gives authorities the opportunity to provide revised figures on the amount of council tax and non domestic rate receipts collected
B55: in quarter 1 to quarter 3 of 2014-15, and the amount of receipts received in quarter 4 of 2014-15.
B57: Receipts of council taxes and non domestic rate collected during 2014-15, broken down by quarter, irrespective of the financial year (previous, current or future years)
B58: to which the receipts relate | P58: CTAX USER ENTRY | R58: CTAX VALIDATION | X58: NNDR VALIDATION
...

Sheet Main Validation
A2: QUARTERLY RETURN OF COUNCIL TAXES AND NON-DOMESTIC RATES (QRC4)
A3: 2014-15
A4: Validation Checks
A5: =+'QRC4 Form'!L1 -> Ver 1.0
B7: =+CONCATENATE("Local authority : ",+'QRC4 Form'!E19," ",+'QRC4 Form'!$E$18) -> Local authority : E1433 Hastings
B8: =+CONCATENATE("Local authority contact name : ",+'QRC4 Form'!E20) -> Local authority contact name : Nick Brocklebank
B9: =+CONCATENATE("Local authority contact number : ",+'QRC4 Form'!E21) -> Local authority contact number : 01424 451563
B10: =+CONCATENATE("Local authority contact email address : ",+'QRC4 Form'!E22) -> Local authority contact email address : nbrocklebank@hastings.gov.uk
B12: This sheet automatically highlights any validation queries and provides space for your explanations
B13: The note QRC4 Validation Checks 2014-15 provides further details on the validations we carry out. Please consult this when completing this validation sheet
D15: Data | G15: Change | J15: Parameters
D16: Previous data | E16: 2014-15 | G16: Actual | H16: % | J16: Actual | K16: % | O16: Please comment below where required
C17: Council Tax | D17: £'000s | E17: £'000s | G17: £'000s | J17: £'000s
B18: 1 | C18: Receipts collected between April 2014 - June 2014 (Quarter 1 - QRC3 2014-15) | D18: =VLOOKUP('QRC4 Form'!I1,Data!A12:AE338,4,FALSE) -> 13681 | E18: ='QRC4 Form'!I60 -> 13681 | G18: =ABS(+E18-D18) -> 0 | H18: =+IF(D18=0,"-",+G18/D18) -> 0 | J18: 0 | K18: 0.1 | M18: =IF(D18=0,"Zero in 2014-15",IF(G18=0,"OK", IF(H18="","OK",IF(AND(ABS(H18)>K18,ABS(G18)>J18),"Please comment","OK")))) -> OK
B19: 2 | C19: Receipts collected between July 2014 - September 2014 (Quarter 2 - QRC3 2014-15) | D19: =VLOOKUP('QRC4 Form'!I1,Data!A12:AE338,5,FALSE) -> 11389 | E19: ='QRC4 Form'!I62 -> 11389 | G19: =ABS(+E19-D19) -> 0 | H19: =+IF(D19=0,"-",+G19/D19) -> 0 | J19: 0 | K19: 0.1 | M19: =IF(D19=0,"Zero in 2014-15",IF(G19=0,"OK", IF(H19="","OK",IF(AND(ABS(H19)>K19,ABS(G19)>J19),"Please comment","OK")))) -> OK
B20: =+B19+1 -> 3 | C20: Receipts collected between October 2014 - December 2014 (Quarter 3 - QRC3 2014-15) | D20: =VLOOKUP('QRC4 Form'!I1,Data!A12:AE338,6,FALSE) -> 11521 | E20: ='QRC4 Form'!I64 -> 11521 | G20: =ABS(+E20-D20) -> 0 | H20: =+IF(D20=0,"-",+G20/D20) -> 0 | J20: 0 | K20: 0.1 | M20: =IF(D20=0,"Zero in 2014-15",IF(G20=0,"OK", IF(H20="","OK",IF(AND(ABS(H20)>K20,ABS(G20)>J20),"Please comment","OK")))) -> OK
B21: =+B20+1 -> 4 | C21: Receipts collected between April 2014 - December 2014 (Quarter 1 + 2 + 3 - QRC3 2014-15) | D21: =VLOOKUP('QRC4 Form'!I1,Data!A12:AE338,7,FALSE) -> 36591 | E21: =+E18+E19+E20 -> 36591 | G21: =ABS(+E21-D21) -> 0 | H21: =+IF(D21=0,"-",+G21/D21) -> 0 | J21: 0 | K21: 0.2 | M21: =IF(D21=0,"Zero in 2014-15",IF(G21=0,"OK", IF(H21="","OK",IF(AND(ABS(H21)>K21,ABS(G21)>J21),"Please comment","OK")))) -> OK
B22: =+B21+1 -> 5 | C22: Receipts collected between January 2014 - March 2014 (Quarter 4 - QRC4 2013-14) | D22: =VLOOKUP('QRC4 Form'!I1,Data!A12:AE338,20,FALSE) -> 3468 | E22: =+'QRC4 Form'!I66 -> 3637 | G22: =ABS(+E22-D22) -> 169 | H22: =+IF(D22=0,"-",+G22/D22) -> 0.048731257 | J22: 0 | K22: 0.2 | M22: =IF(D22=0,"Zero in 2014-15",IF(G22=0,"OK", IF(H22="","OK",IF(AND(ABS(H22)>K22,ABS(G22)>J22),"Please comment","OK")))) -> OK
B23: =+B22+1 -> 6 | C23: Total estimated receipts of council taxes in 2014-15, irrespective of year to which the receipts relate | D23: =VLOOKUP('QRC4 Form'!I1,Data!A12:AE340,19,FALSE) -> 38910 | E23: ='QRC4 Form'!I50 -> 40228 | G23: =ABS(+E23-D23) -> 1318 | H23: =+IF(D23=0,"-",+G23/D23) -> 0.03387304 | J23: 0 | K23: 0.2 | M23: =IF(D23=0,"Zero in 2014-15",IF(G23=0,"OK", IF(H23="","OK",IF(AND(ABS(H23)>K23,ABS(G23)>J23),"Please comment","OK")))) -> OK
B24: =+B23+1 -> 7 | C24: Prepayments & cash receipts collected in previous years in respect of 2014-15 | D24: =VLOOKUP('QRC4 Form'!I1,Data!A12:AE341,18,FALSE) -> 540 | E24: ='QRC4 Form'!I48 -> 581 | G24: =ABS(+E24-D24) -> 41 | H24: =+IF(D24=0,"-",+G24/D24) -> 0.075925926 | J24: 0 | K24: 0.1 | M24: =IF(D24=0,"Zero in 2014-15",IF(G24=0,"OK", IF(H24="","OK",IF(AND(ABS(H24)>K24,ABS(G24)>J24),"Please comment","OK")))) -> OK
B25: =+B24+1 -> 8 | C25: In-year collection rate for 2014-15 | D25: =VLOOKUP('QRC4 Form'!I$1,Data!A$12:AE$338,16,FALSE)/100 -> 0.9633 | E25: =('QRC4 Form'!I$43)/100 -> 0.9643 | G25: =ABS(+E25-D25)*100 -> 0.1 | J25: 1.5 | M25: =IF(ABS(G25)>=J25,"Please comment","OK") -> OK
B26: =+B25+1 -> 9 | C26: Change in arrears outstanding at the end of the year between QRC4 2013-14 & QRC4 2014-15 | D26: =VLOOKUP('QRC4 Form'!I$1,Data!A$12:AE$338,30,FALSE) -> 5774 | E26: =+'QRC4 Form'!I123 -> 5125 | G26: =ABS(+E26-D26) -> 649 | H26: =+IF(D26=0,"-",+G26/D26) -> 0.11240042 | J26: 0 | K26: 0.2 | M26: =IF(D26=0,"Zero in 2014-15",IF(G26=0,"OK", IF(H26="","OK",IF(AND(ABS(H26)>K26,ABS(G26)>J26),"Please comment","OK")))) -> OK
B27: =+B26+1 -> 10 | C27: Collection of arrears in 2014-15 in part 1 | D27: =VLOOKUP('QRC4 Form'!I$1,Data!A$12:AE$338,17,FALSE) -> 737 | E27: =+'QRC4 Form'!I46 -> 744 | G27: =ABS(+E27-D27) -> 7 | H27: =+IF(D27=0,"-",+G27/D27) -> 0.0094979647 | J27: 0 | K27: 0.2 | M27: =IF(D27=0,"Zero in 2014-15",IF(G27=0,"OK", IF(H27="","OK",IF(AND(ABS(H27)>K27,ABS(G27)>J27),"Please comment","OK")))) -> OK
B28: =+B27+1 -> 11 | C28: Change in amount written off in year irrespective of the year to which it relates, between 2013-14 & 2014-15 | D28: =VLOOKUP('QRC4 Form'!I$1,Data!A$12:AE$338,31,FALSE) -> 32 | E28: =+'QRC4 Form'!I107+'QRC4 Form'!I109+'QRC4 Form'!I119 -> 1050 | G28: =ABS(+E28-D28) -> 1018 | H28: =+IF(D28=0,"-",+G28/D28) -> 31.8125 | J28: 25 | K28: 0.25 | M28: =IF(D28=0,"Zero in 2014-15",IF(G28=0,"OK", IF(H28="","OK",IF(AND(ABS(H28)>K28,ABS(G28)>J28),"Please comment","OK")))) -> Please comment | O28: Very little write off's processed during 2013/14.
C30: National Non Domestic Rate
B31: =+B28+1 -> 12 | C31: Receipts collected between April 2014 - June 2014 (Quarter 1 - QRC3 2014-15) | D31: =VLOOKUP('QRC4 Form'!I1,Data!A12:AE349,8,FALSE) -> 7278 | E31: ='QRC4 Form'!K60 -> 7278 | G31: =ABS(+E31-D31) -> 0 | H31: =+IF(D31=0,"-",+G31/D31) -> 0 | J31: 0 | K31: 0.1 | M31: =IF(D31=0,"Zero in 2014-15",IF(G31=0,"OK", IF(H31="","OK",IF(AND(ABS(H31)>K31,ABS(G31)>J31),"Please comment","OK")))) -> OK
B32: =+B31+1 -> 13 | C32: Receipts collected between July 2014 - September 2014 (Quarter 2 - QRC3 2014-15) | D32: =VLOOKUP('QRC4 Form'!I1,Data!A12:AE350,9,FALSE) -> 4335 | E32: ='QRC4 Form'!K62 -> 4335 | G32: =ABS(+E32-D32) -> 0 | H32: =+IF(D32=0,"-",+G32/D32) -> 0 | J32: 0 | K32: 0.1 | M32: =IF(D32=0,"Zero in 2014-15",IF(G32=0,"OK", IF(H32="","OK",IF(AND(ABS(H32)>K32,ABS(G32)>J32),"Please comment","OK")))) -> OK
B33: =+B32+1 -> 14 | C33: Receipts collected between October 2014 - December 2014 (Quarter 3 - QRC3 2014-15) | D33: =VLOOKUP('QRC4 Form'!I1,Data!A12:AE351,10,FALSE) -> 5577 | E33: ='QRC4 Form'!K64 -> 5577 | G33: =ABS(+E33-D33) -> 0 | H33: =+IF(D33=0,"-",+G33/D33) -> 0 | J33: 0 | K33: 0.1 | M33: =IF(D33=0,"Zero in 2014-15",IF(G33=0,"OK", IF(H33="","OK",IF(AND(ABS(H33)>K33,ABS(G33)>J33),"Please comment","OK")))) -> OK
B34: =+B33+1 -> 15 | C34: Receipts collected between April 2014 - December 2014 (Quarter 1 + 2 + 3 - QRC3 2014-15) | D34: =VLOOKUP('QRC4 Form'!I1,Data!A12:AE352,11,FALSE) -> 17190 | E34: =+E31+E32+E33 -> 17190 | G34: =ABS(+E34-D34) -> 0 | H34: =+IF(D34=0,"-",+G34/D34) -> 0 | J34: 0 | K34: 0.2 | M34: =IF(D34=0,"Zero in 2014-15",IF(G34=0,"OK", IF(H34="","OK",IF(AND(ABS(H34)>K34,ABS(G34)>J34),"Please comment","OK")))) -> OK
B35: =+B34+1 -> 16 | C35: Receipts collected between January 2014 - March 2014 (Quarter 4 - QRC4 2013-14) | D35: =VLOOKUP('QRC4 Form'!I1,Data!A12:AE338,29,FALSE) -> 1982 | E35: =+'QRC4 Form'!K66 -> 2650 | G35: =ABS(+E35-D35) -> 668 | H35: =+IF(D35=0,"-",+G35/D35) -> 0.3370333 | J35: 0 | K35: 0.2 | M35: =IF(D35=0,"Zero in 2014-15",IF(G35=0,"OK", IF(H35="","OK",IF(AND(ABS(H35)>K35,ABS(G35)>J35),"Please comment","OK")))) -> Please comment | O35: 12 month payment plans increased during 2014/15
B36: =+B35+1 -> 17 | C36: Total estimated receipts of non-domestic rates in 2014-15, irrespective of year to which the receipts relate | D36: =VLOOKUP('QRC4 Form'!I1,Data!A12:AE353,28,FALSE) -> 21964 | E36: ='QRC4 Form'!K50 -> 19840 | G36: =ABS(+E36-D36) -> 2124 | H36: =+IF(D36=0,"-",+G36/D36) -> 0.096703697 | J36: 0 | K36: 0.2 | M36: =IF(D36=0,"Zero in 2014-15",IF(G36=0,"OK", IF(H36="","OK",IF(AND(ABS(H36)>K36,ABS(G36)>J36),"Please comment","OK")))) -> OK
B37: =+B36+1 -> 18 | C37: Prepayments & cash receipts collected in previous years in respect of 2014-15 | D37: =VLOOKUP('QRC4 Form'!I1,Data!A12:AE354,27,FALSE) -> 220 | E37: ='QRC4 Form'!K48 -> 156 | G37: =ABS(+E37-D37) -> 64 | H37: =+IF(D37=0,"-",+G37/D37) -> 0.29090909 | J37: 2500 | K37: 0.1 | M37: =IF(D37=0,"Zero in 2014-15",IF(G37=0,"OK", IF(H37="","OK",IF(AND(ABS(H37)>K37,ABS(G37)>J37),"Please comment","OK")))) -> OK
B38: =+B37+1 -> 19 | C38: In-year collection rate for 2014-15 | D38: =VLOOKUP('QRC4 Form'!I1,Data!A12:AE355,25,FALSE)/100 -> 0.9783 | E38: ='QRC4 Form'!K43/100 -> 0.9851 | G38: =ABS(+E38-D38)*100 -> 0.68 | J38: 1.5 | M38: =IF(ABS(G38)>=J38,"Please comment","OK") -> OK
G40: =+'[5]Main Validation'!$G46 -> Total number of questions | M40: =+MAX(B18:B38) -> 19
G41: =+'[5]Main Validation'!$G47 -> Number where no comment required | M41: =COUNTIF($M$18:$M$38,"OK") -> 17
G42: =+'[5]Main Validation'!$G48 -> Number where last year's value was zero | M42: =COUNTIF($M$17:$M$41,"Zero values") -> 0
G43: =+'[5]Main Validation'!$G49 -> Number where comment is required | M43: =COUNTIF($M$18:$M$38,"Please comment") -> 2
G44: =+'[5]Main Validation'!$G50 -> Number of comments still required | M44: =(COUNTIF($O$18:$O$38,"")-2-(M40-M43)) -> 0
B45: Please provide any further comments below

Sheet Data
A2: 1 | B2: 2 | C2: 3 | D2: 4 | E2: 5 | F2: 6 | G2: 7 | H2: 8 | I2: 9 | J2: 10 | K2: 11 | L2: 12 | M2: 13 | N2: 14 | O2: 15 | P2: 16 | Q2: 17 | R2: 18 | S2: 19 | T2: 20 | U2: 21 | V2: 22 | W2: 23 | X2: 24 | Y2: 25 | Z2: 26 | AA2: 27 | AB2: 28 | AC2: 29 | AD2: 30 | AE2: 31
L5: Council Tax data from QRC4 2013-14 | U5: NNDR data from QRC4 2013-14 | AD5: Council Tax data from QRC4 2013-14
L6: Est net collectable | M6: Prepayments/cash | N6: Est receipts of 2013-14 | O6: Total receipts of | P6: Council tax in year | Q6: Est receipt of | R6: Est receipt of | S6: Total receipt | T6: Ctax receipts | U6: Est net collectable | V6: Prepayments/cash | W6: Est receipts of 2013-14 | X6: Total receipts of | Y6: NNDR in year | Z6: Est receipt of | AA6: Est receipt of | AB6: Total receipt | AC6: NNDR receipts | AD6: CT Arrears | AE6: Total CT write offs in 2013-14
D7: Council Tax info from QRC3 2014-15 | H7: NDR info from QRC3 2014-15 | L7: debit iro | M7: receipts iro | N7: ctaxes collected | O7: 13-14 CT in | P7: collection rate | Q7: previous yr | R7: 2012-13 ctaxes | S7: of C Taxes received | T7: Jan 2014-Mar 2014 | U7: debit iro | V7: receipts iro | W7: NNDR collected | X7: 2013-14 NNDR | Y7: collection rate | Z7: previous yr | AA7: 2013-14 NNDR | AB7: of NNDR | AC7: Jan 2014-Mar 2014 | AD7: at end of
A8: No. | B8: Local Authority | C8: Ecodes | D8: Qtr1 | E8: Qtr2 | F8: Qtr3 | G8: Total Qtrs | H8: Qtr1 | I8: Qtr2 | J8: Qtr3 | K8: Total Qtrs | L8: 2013-14 | M8: 2013-14 | N8: 2013-14 | O8: 2013-14 | P8: 2013-14 | Q8: ctaxes received | R8: received before | S8: in 2013-14 | U8: 2013-14 | V8: 2013-14 | W8: in 2013-14 | Y8: 2013-14 | Z8: NNDR received | AA8: received | AB8: received in 2013-14 | AC8: irrespective | AD8: 2013-14
D9: £000 | E9: £000 | F9: £000 | G9: £000 | H9: £000 | I9: £000 | J9: £000 | K9: £000 | R9: 41730 | S9: irrespective of year | AA9: in 2013-14 | AB9: irrespective of year | AC9: of year
L10: Line 1 | M10: Line 2 | N10: Line 3 | O10: Line 4 | P10: Line 5 | Q10: Line 6 | R10: Line 7 | S10: Line 8 | T10: Line 12 | U10: Line 1 | V10: Line 2 | W10: Line 3 | X10: Line 4 | Y10: Line 5 | Z10: Line 6 | AA10: Line 7 | AB10: Line 8 | AC10: Line 12 | AD10: Line 25 | AE10: Lines 20a, 20b & 23
A12: 1 | B12: Adur | C12: E3831 | D12: 9293 | E12: 9114 | F12: 9156 | G12: =SUM(D12:F12) -> 27563 | H12: 4660 | I12: 4568 | J12: 4127 | K12: =SUM(H12:J12) -> 13355 | L12: 31787 | M12: 566 | N12: 30431 | O12: 30997 | P12: 97.51 | Q12: 515 | R12: 609 | S12: 31555 | T12: 4300 | U12: 16626 | V12: 733 | W12: 15523 | X12: 16256 | Y12: 97.77 | Z12: -1408 | AA12: 2074 | AB12: 16189 | AC12: 1940 | AD12: 2206 | AE12: 80
A13: 2 | B13: Allerdale | C13: E0931 | D13: 13517 | E13: 13251 | F13: 13127 | G13: =SUM(D13:F13) -> 39895 | H13: 6823 | I13: 7582 | J13: 6233 | K13: =SUM(H13:J13) -> 20638 | L13: 45328 | M13: 586 | N13: 43743 | O13: 44329 | P13: 97.8 | Q13: 800 | R13: 719 | S13: 45262 | T13: 6214 | U13: 27243 | V13: 70 | W13: 26641 | X13: 26711 | Y13: 98.05 | Z13: 529 | AA13: 118 | AB13: 27288 | AC13: 3250 | AD13: 2901 | AE13: 66
A14: 3 | B14: Amber Valley | C14: E1031 | D14: 16859 | E14: 16463 | F14: 16609 | G14: =SUM(D14:F14) -> 49931 | H14: 8377 | I14: 9494 | J14: 7804 | K14: =SUM(H14:J14) -> 25675 | L14: 55770 | M14: 926 | N14: 54151 | O14: 55077 | P14: 98.76 | Q14: 363 | R14: 1162 | S14: 55676 | T14: 7084 | U14: 31034 | V14: 99 | W14: 30634 | X14: 30733 | Y14: 99.03 | Z14: -588 | AA14: 342 | AB14: 30388 | AC14: 2933 | AD14: 780 | AE14: 109
A15: 4 | B15: Arun | C15: E3832 | D15: 25384 | E15: 24474 | F15: 24936 | G15: =SUM(D15:F15) -> 74794 | H15: 8173 | I15: 10499 | J15: 9222 | K15: =SUM(H15:J15) -> 27894 | L15: 85214 | M15: 427 | N15: 83312 | O15: 83739 | P15: 98.27 | Q15: 485 | R15: 505 | S15: 84302 | T15: 10728 | U15: 33177 | V15: 161 | W15: 32474 | X15: 32635 | Y15: 98.37 | Z15: 45 | AA15: 197 | AB15: 32716 | AC15: 4080 | AD15: 3618 | AE15: 165
A16: 5 | B16: Ashfield | C16: E3031 | D16: 14479 | E16: 14549 | F16: 14350 | G16: =SUM(D16:F16) -> 43378 | H16: 9651 | I16: 9264 | J16: 8817 | K16: =SUM(H16:J16) -> 27732 | L16: 48837 | M16: 595 | N16: 46835 | O16: 47430 | P16: 97.12 | Q16: 1014 | R16: 652 | S16: 48501 | T16: 7172 | U16: 32679 | V16: 97 | W16: 31998 | X16: 32095 | Y16: 98.21 | Z16: -137 | AA16: 97 | AB16: 31957 | AC16: 3769 | AD16: 3607 | AE16: 324
A17: 6 | B17: Ashford | C17: E2231 | D17: 23664 | E17: 17586 | F17: 17678 | G17: =SUM(D17:F17) -> 58928 | H17: 16678 | I17: 12422 | J17: 13014 | K17: =SUM(H17:J17) -> 42114 | L17: 60117 | M17: 764 | N17: 58369 | O17: 59133 | P17: 98.4 | Q17: 305 | R17: 944 | S17: 59618 | T17: 2332 | U17: 45921 | V17: 221 | W17: 45180 | X17: 45401 | Y17: 98.9 | Z17: -546 | AA17: 642 | AB17: 45276 | AC17: 2718 | AD17: 3428 | AE17: 55
A18: 7 | B18: Aylesbury Vale | C18: E0431 | D18: 30107 | E18: 29143 | F18: 29476 | G18: =SUM(D18:F18) -> 88726 | H18: 15271 | I18: 13429 | J18: 12707 | K18: =SUM(H18:J18) -> 41407 | L18: 99321 | M18: 874 | N18: 97083 | O18: 97957 | P18: 98.63 | Q18: 680 | R18: 928 | S18: 98691 | T18: 13148 | U18: 47844 | V18: 837 | W18: 46720 | X18: 47557 | Y18: 99.4 | Z18: 907 | AA18: 791 | AB18: 48418 | AC18: 5752 | AD18: 4297 | AE18: 234
A19: 8 | B19: Babergh | C19: E3531 | D19: 16372 | E19: 13743 | F19: 13373 | G19: =SUM(D19:F19) -> 43488 | H19: 8089 | I19: 6834 | J19: 6111 | K19: =SUM(H19:J19) -> 21034 | L19: 46580 | M19: 357 | N19: 45380 | O19: 45737 | P19: 98.19 | Q19: 408 | R19: 547 | S19: 46335 | T19: 3366 | U19: 23397 | V19: 22 | W19: 22975 | X19: 22997 | Y19: 98.29 | Z19: 270 | AA19: 75 | AB19: 23320 | AC19: 1508 | AD19: 1707 | AE19: 40
A20: 9 | B20: Barking and Dagenham | C20: E5030 | D20: 16267 | E20: 15671 | F20: 15731 | G20: =SUM(D20:F20) -> 47669 | H20: 20009 | I20: 14869 | J20: 14443 | K20: =SUM(H20:J20) -> 49321 | L20: 56145 | M20: 1204 | N20: 51645 | O20: 52849 | P20: 94.13 | Q20: 1414 | R20: 1449 | S20: 54508 | T20: 8378 | U20: 58290 | V20: 163 | W20: 56356 | X20: 56519 | Y20: 96.96 | Z20: 26 | AA20: 410 | AB20: 56792 | AC20: 9746 | AD20: 18037 | AE20: 165
A21: 10 | B21: Barnet | C21: E5031 | D21: 54868 | E21: 48100 | F21: 49580 | G21: =SUM(D21:F21) -> 152548 | H21: 32671 | I21: 32631 | J21: 29072 | K21: =SUM(H21:J21) -> 94374 | L21: 183753 | M21: 2669 | N21: 174448 | O21: 177117 | P21: 96.39 | Q21: 3276 | R21: 2074 | S21: 179798 | T21: 25788 | U21: 114598 | V21: 275 | W21: 109457 | X21: 109732 | Y21: 95.75 | Z21: 476 | AA21: 298 | AB21: 110231 | AC21: 11831 | AD21: 27804 | AE21: 3736
A22: 11 | B22: Barnsley | C22: E4401 | D22: 24081 | E22: 23471 | F22: 23326 | G22: =SUM(D22:F22) -> 70878 | H22: 12694 | I22: 13581 | J22: 13330 | K22: =SUM(H22:J22) -> 39605 | L22: 87609 | M22: 632 | N22: 83041 | O22: 83673 | P22: 95.51 | Q22: 1938 | R22: 1022 | S22: 86001 | T22: 17585 | U22: 54304 | V22: 266 | W22: 52075 | X22: 52341 | Y22: 96.39 | Z22: 1014 | AA22: 3135 | AB22: 56224 | AC22: 13279 | AD22: 11103 | AE22: 455
A23: 12 | B23: Barrow-in-Furness | C23: E0932 | D23: 7960 | E23: 8787 | F23: 7817 | G23: =SUM(D23:F23) -> 24564 | H23: 6802 | I23: 6186 | J23: 6500 | K23: =SUM(H23:J23) -> 19488 | L23: 28837 | M23: 426 | N23: 27426 | O23: 27852 | P23: 96.58 | Q23: 668 | R23: 422 | S23: 28516 | T23: 4372 | U23: 23811 | V23: 704 | W23: 22718 | X23: 23422 | Y23: 98.37 | Z23: 5 | AA23: 741 | AB23: 23464 | AC23: 2947 | AD23: 3248 | AE23: 227
... A337: 326 | B337: York | C337: E2701 | D337: 27026 | E337: 26401 | F337: 26589 | G337: =SUM(D337:F337) -> 80016 | H337: 28315 | I337: 27959 | J337: 26939 | K337: =SUM(H337:J337) -> 83213 | L337: 89110 | M337: 696 | N337: 86260 | O337: 86956 | P337: 97.58 | Q337: 664 | R337: 903 | S337: 87827 | T337: 9909 | U337: 98537 | V337: 942 | W337: 95635 | X337: 96577 | Y337: 98.01 | Z337: -623 | AA337: 906 | AB337: 95918 | AC337: 11862 | AD337: 5495 | AE337: 207
A338: 327 | B338: ZZZZ | C338: EZZZZ | D338: =SUM(D12:D337) -> 7089460 | E338: =SUM(E12:E337) -> 6892772.8 | F338: =SUM(F12:F337) -> 6888865.3 | G338: =SUM(G12:G337) -> 20871098 | H338: =SUM(H12:H337) -> 7249355 | I338: =SUM(I12:I337) -> 6229503.3 | J338: =SUM(J12:J337) -> 6044491.8 | K338: =SUM(K12:K337) -> 19523350 | ... O338: =SUM(O12:O337) -> 23386014 | P338: =+O338/L338*100 -> 96.957648 | Q338: =SUM(Q12:Q337) -> 399356 | R338: =SUM(R12:R337) -> 361647 | S338: =SUM(S12:S337) -> 23847806 | T338: =SUM(T12:T337) -> 3507619 | U338: =SUM(U12:U337) -> 23138719 | V338: =SUM(V12:V337) -> 226212 | W338: =SUM(W12:W337) -> 22434478 | X338: =SUM(X12:X337) -> 22660690 | Y338: =+X338/U338*100 -> 97.934073 | Z338: =SUM(Z12:Z337) -> -195384 | AA338: =SUM(AA12:AA337) -> 341289 | AB338: =SUM(AB12:AB337) -> 22580382 | AC338: =SUM(AC12:AC337) -> 2523372 | AD338: =SUM(AD12:AD337) -> 2529152.2 | AE338: =SUM(AE12:AE337) -> 202317.5
L341: =+L337 -> 89110 | M341: =+M337 -> 696 | N341: =+N337 -> 86260 | O341: =+O337 -> 86956 | P341: =+P337 -> 97.58 | Q341: =+O341/L341*100 -> 97.582763

Sheet Sheet1
A1: 000 | B1: ='QRC4 Form'!$E$19 -> E1433 | C1: QRC414XXX | D1: , | E1: =+'QRC4 Form'!$I$34 -> 40903 | F1: , | G1: =+'QRC4 Form'!$I$36 -> 540 | H1: , | I1: =+'QRC4 Form'!$I$38 -> 38903 | J1: , | K1: =+'QRC4 Form'!$I$40 -> 39443 | L1: , | M1: =+'QRC4 Form'!$I$43 -> 96.43 | N1: , | O1: =+'QRC4 Form'!$I$46 -> 744 | P1: , | Q1: =+'QRC4 Form'!$I$48 -> 581 | R1: , | S1: =+'QRC4 Form'!$I$50 -> 40228 | T1: , | U1: =+'QRC4 Form'!$I$60 -> 13681 | V1: , | W1: =+'QRC4 Form'!$I$62 -> 11389 | X1: ,
A2: 000 | B2: =+B1 -> E1433 | C2: =+C1 -> QRC414XXX | D2: , | E2: =+'QRC4 Form'!$I$64 -> 11521 | F2: , | G2: =+'QRC4 Form'!$I$66 -> 3637 | H2: , | I2: =+'QRC4 Form'!$I$95 -> 5774 | J2: , | K2: =+'QRC4 Form'!$I$97 -> -502 | L2: , | M2: =+'QRC4 Form'!$I$101 -> 5272 | N2: , | O2: =+'QRC4 Form'!$I$103 -> 444 | P2: , | Q2: =+'QRC4 Form'!$I$105 -> 300 | R2: , | S2: =+'QRC4 Form'!$I$107 -> 891 | T2: , | U2: =+'QRC4 Form'!$I$109 -> 145 | V2: , | W2: =+'QRC4 Form'!$I$111 -> 3492 | X2: ,
A3: 000 | B3: =+B2 -> E1433 | C3: =+C2 -> QRC414XXX | D3: , | E3: =+'QRC4 Form'!$I$113 -> 2466 | F3: , | G3: =+'QRC4 Form'!$I$114 -> 1026 | H3: , | I3: =+'QRC4 Form'!$I$116 -> 1647 | J3: , | K3: =+'QRC4 Form'!$I$119 -> 14 | L3: , | M3: =+'QRC4 Form'!$I$121 -> 1633 | N3: , | O3: =+'QRC4 Form'!$I$123 -> 5125 | P3: , | Q3: =+'QRC4 Form'!$I$126 -> 504 | R3: , | S3: =+'QRC4 Form'!$K$34 -> 21624 | T3: , | U3: =+'QRC4 Form'!$K$36 -> 220 | V3: , | W3: =+'QRC4 Form'!$K$38 -> 21081 | X3: ,
A4: 000 | B4: =+B3 -> E1433 | C4: =+C3 -> QRC414XXX | D4: , | E4: =+'QRC4 Form'!$K$40 -> 21301 | F4: , | G4: =+'QRC4 Form'!$K$43 -> 98.51 | H4: , | I4: =+'QRC4 Form'!$K$46 -> -1397 | J4: , | K4: =+'QRC4 Form'!$K$48 -> 156 | L4: , | M4: =+'QRC4 Form'!$K$50 -> 19840 | N4: , | O4: =+'QRC4 Form'!$K$60 -> 7278 | P4: , | Q4: =+'QRC4 Form'!$K$62 -> 4335 | R4: , | S4: =+'QRC4 Form'!$K$64 -> 5577 | T4: , | U4: =+'QRC4 Form'!$K$66 -> 2650 | V4: , | W4: =+'QRC4 Form'!$K$95 -> 970 | X4: ,
A5: 000 | B5: =+B4 -> E1433 | C5: =+C4 -> QRC414XXX | D5: , | E5: =+'QRC4 Form'!$K$97 -> -60 | F5: , | G5: =+'QRC4 Form'!$K$101 -> 910 | H5: , | I5: =+'QRC4 Form'!$K$103 -> 0 | J5: , | K5: =+'QRC4 Form'!$K$105 -> 0 | L5: , | M5: =+'QRC4 Form'!$K$107 -> 59 | N5: , | O5: =+'QRC4 Form'!$K$109 -> 38 | P5: , | Q5: =+'QRC4 Form'!$K$111 -> 813 | R5: , | S5: =+'QRC4 Form'!$K$113 -> 412 | T5: , | U5: =+'QRC4 Form'!$K$114 -> 401 | V5: , | W5: =+'QRC4 Form'!$K$116 -> 329 | X5: ,
A6: 000 | B6: =+B5 -> E1433 | C6: =+C5 -> QRC414XXX | D6: , | E6: =+'QRC4 Form'!$K$119 -> 1 | F6: , | G6: =+'QRC4 Form'!$K$121 -> 328 | H6: , | I6: =+'QRC4 Form'!$K$123 -> 1141 | J6: , | K6: =+'QRC4 Form'!$K$126 -> 16 | L6: ,

Sheet Access1
A1: ID | B1: LA_ Code | C1: Cal _Year | D1: Col_ No | E1: Row_No | F1: Amount
A2: 1 | B2: ='QRC4 Form'!$E$19 -> E1433 | C2: 2014-15 | D2: 1 | E2: 1 | F2: ='QRC4 Form'!I34 -> 40903
A3: 2 | B3: ='QRC4 Form'!$E$19 -> E1433 | C3: 2014-15 | D3: 1 | E3: 2 | F3: ='QRC4 Form'!I36 -> 540
A4: 3 | B4: ='QRC4 Form'!$E$19 -> E1433 | C4: 2014-15 | D4: 1 | E4: 3 | F4: ='QRC4 Form'!I38 -> 38903
A5: 4 | B5: ='QRC4 Form'!$E$19 -> E1433 | C5: 2014-15 | D5: 1 | E5: 4 | F5: ='QRC4 Form'!I40 -> 39443
A6: 5 | B6: ='QRC4 Form'!$E$19 -> E1433 | C6: 2014-15 | D6: 1 | E6: 5 | F6: ='QRC4 Form'!I43 -> 96.43
A7: 6 | B7: ='QRC4 Form'!$E$19 -> E1433 | C7: 2014-15 | D7: 1 | E7: 6 | F7: ='QRC4 Form'!I46 -> 744
A8: 7 | B8: ='QRC4 Form'!$E$19 -> E1433 | C8: 2014-15 | D8: 1 | E8: 7 | F8: ='QRC4 Form'!I48 -> 581
A9: 8 | B9: ='QRC4 Form'!$E$19 -> E1433 | C9: 2014-15 | D9: 1 | E9: 8 | F9: ='QRC4 Form'!I50 -> 40228
A10: 9 | B10: ='QRC4 Form'!$E$19 -> E1433 | C10: 2014-15 | D10: 1 | E10: 9 | F10: ='QRC4 Form'!I60 -> 13681
A11: 10 | B11: ='QRC4 Form'!$E$19 -> E1433 | C11: 2014-15 | D11: 1 | E11: 10 | F11: ='QRC4 Form'!I62 -> 11389
A12: 11 | B12: ='QRC4 Form'!$E$19 -> E1433 | C12: 2014-15 | D12: 1 | E12: 11 | F12: ='QRC4 Form'!I64 -> 11521
A13: 12 | B13: ='QRC4 Form'!$E$19 -> E1433 | C13: 2014-15 | D13: 1 | E13: 12 | F13: ='QRC4 Form'!I66 -> 3637
A14: 13 | B14: ='QRC4 Form'!$E$19 -> E1433 | C14: 2014-15 | D14: 1 | E14: 13 | F14: ='QRC4 Form'!I95 -> 5774
A15: 14 | B15: ='QRC4 Form'!$E$19 -> E1433 | C15: 2014-15 | D15: 1 | E15: 14 | F15: ='QRC4 Form'!I97 -> -502
A16: 15 | B16: ='QRC4 Form'!$E$19 -> E1433 | C16: 2014-15 | D16: 1 | E16: 15 | F16: ='QRC4 Form'!I101 -> 5272
A17: 16 | B17: ='QRC4 Form'!$E$19 -> E1433 | C17: 2014-15 | D17: 1 | E17: 16 | F17: ='QRC4 Form'!I103 -> 444
A18: 17 | B18: ='QRC4 Form'!$E$19 -> E1433 | C18: 2014-15 | D18: 1 | E18: 17 | F18: ='QRC4 Form'!I105 -> 300
A19: 18 | B19: ='QRC4 Form'!$E$19 -> E1433 | C19: 2014-15 | D19: 1 | E19: 18 | F19: ='QRC4 Form'!I107 -> 891
A20: 19 | B20: ='QRC4 Form'!$E$19 -> E1433 | C20: 2014-15 | D20: 1 | E20: 19 | F20: ='QRC4 Form'!I109 -> 145
A21: 20 | B21: ='QRC4 Form'!$E$19 -> E1433 | C21: 2014-15 | D21: 1 | E21: 20 | F21: ='QRC4 Form'!I111 -> 3492
A22: 21 | B22: ='QRC4 Form'!$E$19 -> E1433 | C22: 2014-15 | D22: 1 | E22: 21 | F22: ='QRC4 Form'!I113 -> 2466
A23: 22 | B23: ='QRC4 Form'!$E$19 -> E1433 | C23: 2014-15 | D23: 1 | E23: 22 | F23: ='QRC4 Form'!I114 -> 1026
A24: 23 | B24: ='QRC4 Form'!$E$19 -> E1433 | C24: 2014-15 | D24: 1 | E24: 23 | F24: ='QRC4 Form'!I116 -> 1647
A25: 24 | B25: ='QRC4 Form'!$E$19 -> E1433 | C25: 2014-15 | D25: 1 | E25: 24 | F25: ='QRC4 Form'!I119 -> 14
A26: 25 | B26: ='QRC4 Form'!$E$19 -> E1433 | C26: 2014-15 | D26: 1 | E26: 25 | F26: ='QRC4 Form'!I121 -> 1633
A27: 26 | B27: ='QRC4 Form'!$E$19 -> E1433 | C27: 2014-15 | D27: 1 | E27: 26 | F27: ='QRC4 Form'!I123 -> 5125
A28: 27 | B28: ='QRC4 Form'!$E$19 -> E1433 | C28: 2014-15 | D28: 1 | E28: 27 | F28: ='QRC4 Form'!I126 -> 504
A29: 28 | B29: ='QRC4 Form'!$E$19 -> E1433 | C29: 2014-15 | D29: 2 | E29: 1 | F29: ='QRC4 Form'!K34 -> 21624
A30: 29 | B30: ='QRC4 Form'!$E$19 -> E1433 | C30: 2014-15 | D30: 2 | E30: 2 | F30: ='QRC4 Form'!K36 -> 220
A31: 30 | B31: ='QRC4 Form'!$E$19 -> E1433 | C31: 2014-15 | D31: 2 | E31: 3 | F31: ='QRC4 Form'!K38 -> 21081
A32: 31 | B32: ='QRC4 Form'!$E$19 -> E1433 | C32: 2014-15 | D32: 2 | E32: 4 | F32: ='QRC4 Form'!K40 -> 21301
A33: 32 | B33: ='QRC4 Form'!$E$19 -> E1433 | C33: 2014-15 | D33: 2 | E33: 5 | F33: ='QRC4 Form'!K43 -> 98.51
A34: 33 | B34: ='QRC4 Form'!$E$19 -> E1433 | C34: 2014-15 | D34: 2 | E34: 6 | F34: ='QRC4 Form'!K46 -> -1397
A35: 34 | B35: ='QRC4 Form'!$E$19 -> E1433 | C35: 2014-15 | D35: 2 | E35: 7 | F35: ='QRC4 Form'!K48 -> 156
A36: 35 | B36: ='QRC4 Form'!$E$19 -> E1433 | C36: 2014-15 | D36: 2 | E36: 8 | F36: ='QRC4 Form'!K50 -> 19840
A37: 36 | B37: ='QRC4 Form'!$E$19 -> E1433 | C37: 2014-15 | D37: 2 | E37: 9 | F37: ='QRC4 Form'!K60 -> 7278
A38: 37 | B38: ='QRC4 Form'!$E$19 -> E1433 | C38: 2014-15 | D38: 2 | E38: 10 | F38: ='QRC4 Form'!K62 -> 4335
A39: 38 | B39: ='QRC4 Form'!$E$19 -> E1433 | C39: 2014-15 | D39: 2 | E39: 11 | F39: ='QRC4 Form'!K64 -> 5577
A40: 39 | B40: ='QRC4 Form'!$E$19 -> E1433 | C40: 2014-15 | D40: 2 | E40: 12 | F40: ='QRC4 Form'!K66 -> 2650
...
