{"text_format":"3","workbook":"xlsx","n_sheets":1,"sheets":["Note 20 1"],"not_rendered":{"external_links":16,"defined_names":76,"comments":1},"read":"whole","date_system":"1900"}

{"sheet":"Note 20 1","index":0,"n_rows":23,"n_cols":7,"rows_kept":23}
["Post holder information (Post title)","Salary (Inc. fees & Allow-ances)","Expense Allowance","Com-pensation for loss of office","Benefits in Kind (e.g.lease cars)*","Pension Cont-ributions**","Total Remun-eration "]
[null,"£","£","£","£","£","£"]
["Financial Year: 2016-17"]
[]
["Director of Corporate Resources and Governance",{"v":87872.4,"d":"87,872"},0,0,{"v":6243,"d":"6,243"},{"v":18406,"d":"18,406"},{"$f":"SUM(B5:F5)","v":{"v":112521.4,"d":"112,521"}}]
["Director of Operational Services ",{"v":82416,"d":"82,416"},0,0,{"v":8384,"d":"8,384"},{"v":17802,"d":"17,802"},{"v":108602,"d":"108,602"}]
["Assistant Director of Finance and Revenues (Section 151 Officer)",{"v":81345,"d":"81,345"},0,0,0,{"v":16823,"d":"16,823"},{"v":98168,"d":"98,168"}]
["Assistant Director of Regeneration",{"v":71388,"d":"71,388"},0,0,0,{"v":15288,"d":"15,288"},{"v":86676,"d":"86,676"}]
["Assistant Director of Environmental Services",{"v":71388,"d":"71,388"},0,0,0,{"v":14914,"d":"14,914"},{"v":86302,"d":"86,302"}]
["Assistant Director of Housing",{"v":71388,"d":"71,388"},0,0,0,{"v":14638,"d":"14,638"},{"v":86026,"d":"86,026"}]
[]
["Total",{"$f":"SUM(B5:B11)","v":{"v":465797.4,"d":"465,797"}},0,0,{"v":14627,"d":"14,627"},{"v":97871,"d":"97,871"},{"v":578295.4,"d":"578,295"}]
[]
["Financial Year: 2017-18"]
[]
["Director of Corporate Resources and Governance",{"$f":"'[16]Senior Management'!B15","v":{"v":88036,"d":"88,036"}},{"$f":"'[16]Senior Management'!C15","v":0},{"$f":"'[16]Senior Management'!D15","v":0},{"$f":"'[16]Senior Management'!E15","v":{"v":6723,"d":"6,723"}},{"$f":"'[16]Senior Management'!F15","v":{"v":15890,"d":"15,890"}},{"$f":"SUM(B16:F16)","v":{"v":110649,"d":"110,649"}}]
["Director of Operational Services ",{"$f":"'[16]Senior Management'!B16","v":{"v":82416,"d":"82,416"}},{"$f":"'[16]Senior Management'!C16","v":0},{"$f":"'[16]Senior Management'!D16","v":0},{"$f":"'[16]Senior Management'!E16","v":{"v":8943,"d":"8,943"}},{"$f":"'[16]Senior Management'!F16","v":{"v":13636,"d":"13,636"}},{"$f":"SUM(B17:F17)","v":{"v":104995,"d":"104,995"}}]
["Assistant Director of Finance and Revenues (Section 151 Officer)",{"$f":"'[16]Senior Management'!B17","v":{"v":82158,"d":"82,158"}},{"$f":"'[16]Senior Management'!C17","v":0},{"$f":"'[16]Senior Management'!D17","v":0},{"$f":"'[16]Senior Management'!E17","v":0},{"$f":"'[16]Senior Management'!F17","v":{"v":14169,"d":"14,169"}},{"v":96327,"d":"96,327"}]
["Assistant Director of Regeneration",{"$f":"'[16]Senior Management'!B18","v":{"v":64957,"d":"64,957"}},{"$f":"'[16]Senior Management'!C18","v":0},{"$f":"'[16]Senior Management'!D18","v":0},{"$f":"'[16]Senior Management'!E18","v":0},{"$f":"'[16]Senior Management'!F18","v":{"v":11130,"d":"11,130"}},{"v":76087,"d":"76,087"}]
["Assistant Director of Environmental Services",{"$f":"'[16]Senior Management'!B19","v":{"v":72102,"d":"72,102"}},{"$f":"'[16]Senior Management'!C19","v":0},{"$f":"'[16]Senior Management'!D19","v":0},{"$f":"'[16]Senior Management'!E19","v":0},{"$f":"'[16]Senior Management'!F19","v":{"v":12354,"d":"12,354"}},{"v":84456,"d":"84,456"}]
["Assistant Director of Housing",{"$f":"'[16]Senior Management'!B20","v":{"v":72102,"d":"72,102"}},{"$f":"'[16]Senior Management'!C20","v":0},{"$f":"'[16]Senior Management'!D20","v":0},{"$f":"'[16]Senior Management'!E20","v":0},{"$f":"'[16]Senior Management'!F20","v":{"v":12354,"d":"12,354"}},{"v":84456,"d":"84,456"}]
[]
["Total",{"$f":"SUM(B16:B22)","v":{"v":461771,"d":"461,771"}},0,0,{"v":15666,"d":"15,666"},{"v":79533,"d":"79,533"},{"v":556970,"d":"556,970"}]